BEGIN:VCALENDAR
VERSION:2.0
PRODID:-//invidICH Institut - ECPv6.15.20//NONSGML v1.0//EN
CALSCALE:GREGORIAN
METHOD:PUBLISH
X-ORIGINAL-URL:https://invidich-institut.de
X-WR-CALDESC:Veranstaltungen für invidICH Institut
REFRESH-INTERVAL;VALUE=DURATION:PT1H
X-Robots-Tag:noindex
X-PUBLISHED-TTL:PT1H
BEGIN:VTIMEZONE
TZID:Europe/Berlin
BEGIN:DAYLIGHT
TZOFFSETFROM:+0100
TZOFFSETTO:+0200
TZNAME:CEST
DTSTART:20210328T010000
END:DAYLIGHT
BEGIN:STANDARD
TZOFFSETFROM:+0200
TZOFFSETTO:+0100
TZNAME:CET
DTSTART:20211031T010000
END:STANDARD
BEGIN:DAYLIGHT
TZOFFSETFROM:+0100
TZOFFSETTO:+0200
TZNAME:CEST
DTSTART:20220327T010000
END:DAYLIGHT
BEGIN:STANDARD
TZOFFSETFROM:+0200
TZOFFSETTO:+0100
TZNAME:CET
DTSTART:20221030T010000
END:STANDARD
BEGIN:DAYLIGHT
TZOFFSETFROM:+0100
TZOFFSETTO:+0200
TZNAME:CEST
DTSTART:20230326T010000
END:DAYLIGHT
BEGIN:STANDARD
TZOFFSETFROM:+0200
TZOFFSETTO:+0100
TZNAME:CET
DTSTART:20231029T010000
END:STANDARD
END:VTIMEZONE
BEGIN:VEVENT
DTSTART;TZID=Europe/Berlin:20220408T163000
DTEND;TZID=Europe/Berlin:20220408T173000
DTSTAMP:20260419T201103
CREATED:20220324T202137Z
LAST-MODIFIED:20220324T202137Z
UID:9606-1649435400-1649439000@invidich-institut.de
SUMMARY:Yoga für Kinder von 4-7 Jahren
DESCRIPTION:Yoga für Kinder \nYoga bietet die Gelegenheit\, sich voll und ganz auf seine Intuition zu verlassen. Es fördert die Kreativität und hat eine positive Auswirkung auf unsere Konzentration. \nDurch das Praktizieren von Yoga werden uns Wege zu unserem körperlichen\, geistigen und seelischen Wohlbefinden gezeigt. \nEs lässt uns unsere innere Mitte finden und unterstützt unsere Selbstheilungskräfte. \nIn diesem Yoga-Kurs möchte ich Kindern auf spielerischem Weg ermöglichen\, sich selbst in Ruhe und Entspannung zu erfahren und die Gelegenheit bieten\, sich vollkommen auf den sechsten Sinn\, unsere Intuition\, zu verlassen. \nWas du brauchst: \n› eine Yoga-Matte oder ein Handtuch\n› bequeme Kleidung\n› dich ♥ \nDer Kurs ist für Kinder im Alter von vier bis sieben Jahren und findet ab vier Teilnehmern statt. \nAb sechs Teilnehmer ist der Kurs voll. \nHerzensausgleich:\nApril – 22\,-€\nMai – 44\,- € \nTermine: freitags 16.30 bis 17.30 Uhr\n8.4. / 29.4. / 6.5. / 13.5. / 20.5. / 27.5.
URL:https://invidich-institut.de/event/yoga-fuer-kinder-von-4-7-jahren-5/
LOCATION:Rheda-Wiedenbrück\, Fuggerstrasse 25\, Rheda-Wiedenbrück\, NRW\, 33378\, Deutschland
ATTACH;FMTTYPE=image/jpeg:https://invidich-institut.de/wp-content/uploads/2022/02/photo_2022-02-06_17-55-31.jpg
ORGANIZER;CN="Leana":MAILTO:leana.peske@gmx.de
END:VEVENT
BEGIN:VEVENT
DTSTART;TZID=Europe/Berlin:20220408T183000
DTEND;TZID=Europe/Berlin:20220408T213000
DTSTAMP:20260419T201103
CREATED:20220329T183641Z
LAST-MODIFIED:20220329T184611Z
UID:9628-1649442600-1649453400@invidich-institut.de
SUMMARY:Gestalte dein eigenes Energiebild "Alles ist möglich" mit Ana & Carola
DESCRIPTION:Möchtest du dein eigenes Glücksbild kreieren ?\nSichtbar und klar ?\nDamit du immer daran erinnert wirst\, was dein Herz dir erzählt hat ? \n„Alles ist möglich“ – wie Birgit Krupka vom Glücksmomente Helenenhof in Schillingsfürst immer so schön spricht…..\nJa\, das ist es auch für uns. Wir möchten mit dir einen Raum öffnen\, in dem dein ureigenes Kraftbild zu diesem Thema und mit dieser Ausrichtung entstehen kann. „Alles ist möglich“ – darf immer für dich sichtbar sein. Deine Ausrichtung entscheidet über deine Lebensqualität. Da du der Maler der Leinwand deines Lebens bist\, wähle gut. \nWas du bekommst: \n\nEine Meditation zum Ankommen\nKlang zum Einstimmen und zur Reinigung deiner Zellstrukturen\nDufte gestaltete Räume vor Ort zur Anregung der Sinne (mit 100% ätherischen Ölen)\nEine Auswahl an Material ( Leinwand 40×40\, Farben\, Papiere\, Pinsel\, Stifte\, Dekomaterial etc.)\nGetränke\nkleine Snacks\nRaum für dich\n\nWas du mitbringen kannst: \n\neigene Fotos\,\nSprüche\, die dir gut tun\,\nWorte\, die sich dir im Vorfeld zeigen\ndein offenes Herz und\nOffenheit für deine Möglichkeiten\n\nIn einer Wohlfühlatmosphäre kreieren wir gemeinsam mit dir neue Energiefelder in Freude und mit allen Farben des Lebens\, die du für dich wählst.\nGesprächsraum\, Austausch und Annahme findest du im Institut mit uns. Möglichkeiten frei von Bewertung.\nMagst du mit dabei sein ? \nDann melde dich bitte bis zum 6.4. 2022 an: info(at)invidich-institut.de\nDer Ausgleich für Material\, Raum und uns beträgt pro Mensch 65\,-€.\nUnsere Plätze sind auf 8 begrenzt\, da wir für jeden genug Platz zur Verfügung stellen möchten 🙂\nAb 5 Teilnehmern findet die Veranstaltung statt.\nNach deiner Anmeldung bekommst du eine Bestätigungsinfo von uns. \nWir freuen uns auf dich\,\nAna & Carola
URL:https://invidich-institut.de/event/gestalte-dein-eigenes-energiebild-alles-ist-moeglich-mit-ana-carola/
LOCATION:Rheda-Wiedenbrück\, Fuggerstrasse 25\, Rheda-Wiedenbrück\, NRW\, 33378\, Deutschland
ORGANIZER;CN="Carola":MAILTO:carola@invidich-institut.de
END:VEVENT
END:VCALENDAR