BEGIN:VCALENDAR
VERSION:2.0
PRODID:-//invidICH Institut - ECPv6.15.20//NONSGML v1.0//EN
CALSCALE:GREGORIAN
METHOD:PUBLISH
X-WR-CALNAME:invidICH Institut
X-ORIGINAL-URL:https://invidich-institut.de
X-WR-CALDESC:Veranstaltungen für invidICH Institut
REFRESH-INTERVAL;VALUE=DURATION:PT1H
X-Robots-Tag:noindex
X-PUBLISHED-TTL:PT1H
BEGIN:VTIMEZONE
TZID:Europe/Berlin
BEGIN:DAYLIGHT
TZOFFSETFROM:+0100
TZOFFSETTO:+0200
TZNAME:CEST
DTSTART:20210328T010000
END:DAYLIGHT
BEGIN:STANDARD
TZOFFSETFROM:+0200
TZOFFSETTO:+0100
TZNAME:CET
DTSTART:20211031T010000
END:STANDARD
BEGIN:DAYLIGHT
TZOFFSETFROM:+0100
TZOFFSETTO:+0200
TZNAME:CEST
DTSTART:20220327T010000
END:DAYLIGHT
BEGIN:STANDARD
TZOFFSETFROM:+0200
TZOFFSETTO:+0100
TZNAME:CET
DTSTART:20221030T010000
END:STANDARD
BEGIN:DAYLIGHT
TZOFFSETFROM:+0100
TZOFFSETTO:+0200
TZNAME:CEST
DTSTART:20230326T010000
END:DAYLIGHT
BEGIN:STANDARD
TZOFFSETFROM:+0200
TZOFFSETTO:+0100
TZNAME:CET
DTSTART:20231029T010000
END:STANDARD
END:VTIMEZONE
BEGIN:VEVENT
DTSTART;TZID=Europe/Berlin:20220423T140000
DTEND;TZID=Europe/Berlin:20220423T180000
DTSTAMP:20260421T144206
CREATED:20220408T185017Z
LAST-MODIFIED:20220408T185017Z
UID:9904-1650722400-1650736800@invidich-institut.de
SUMMARY:Finde dein Warum - Ressourcenworkshop mit Carola
DESCRIPTION:Du möchtest wissen\, was dein WARUM ist ? Dein IKIGAI ?\nWas du liebst ?\nWorin du gut bist ?\nWas die Welt braucht ?\nWomit du Geld verdienen kannst ? \nUnd worin der Zusammenhang zwischen diesen 4 Fragen besteht ? \nEine japanische Betrachtung der Dinge – IKIGAI – das bedeutet so viel wie Lebenssinn – das\, wofür es sich zu leben lohnt.\nWir schauen gemeinsam in dein IKIGAI\, in dein WARUM. \nIn diesem Workshop geht es genau darum. Dafür braucht es deine Bereitschaft\, zu dir hinzuschauen. Auch\, um deine tatsächlichen Gefühle von Erfüllung und Wohlgefühl zu erkennen.\nDie 4 Fragen sind Teil der Reise. Das Finden deiner Gaben und Ressourcen ist ein Fundament. \nDer Workshop bietet dir \n\nein Ankommen im Raum mit einer kleinen Meditation\neinen informellen Einstieg in das Thema\nImpulse für deinen eigenen Umgang und die weitere Beschäftigung mit deinem IKIGAI\nImpulse für das Erkennen deiner Ressourcen\nImpulse für den Blick auf dein inneres Team (Verhinderer und Förderer)\nAustausch in der Gruppe\nMaterial (Papier\, Stifte\, Kleber\, etc…)\nGetränke und Snacks\n\nIn einer Wohlfühlatmosphäre findest du Gelegenheit\, dieses Thema in dein Leben einzuladen.\nDich mit dir zu beschäftigen. \nDer Ausgleich für den Workshop beträgt 110\,-€.\nVerbindliche Anmeldungen bis zum 21.04.2022 möglich.\ncarola@invidich-institut.de \nAb einer Teilnehmerzahl von 3 Menschen findet der Workshop statt. \nIch freue mich auf diese Reise mit DIR\, \nCarola 🙂
URL:https://invidich-institut.de/event/finde-dein-warum-ressourcenworkshop-mit-carola/
LOCATION:Rheda-Wiedenbrück\, Fuggerstrasse 25\, Rheda-Wiedenbrück\, NRW\, 33378\, Deutschland
ATTACH;FMTTYPE=image/jpeg:https://invidich-institut.de/wp-content/uploads/2022/04/Kopie-von-Ana-Carola-scaled.jpg
ORGANIZER;CN="Carola":MAILTO:carola@invidich-institut.de
END:VEVENT
END:VCALENDAR