BEGIN:VCALENDAR
VERSION:2.0
PRODID:-//invidICH Institut - ECPv6.15.20//NONSGML v1.0//EN
CALSCALE:GREGORIAN
METHOD:PUBLISH
X-ORIGINAL-URL:https://invidich-institut.de
X-WR-CALDESC:Veranstaltungen für invidICH Institut
REFRESH-INTERVAL;VALUE=DURATION:PT1H
X-Robots-Tag:noindex
X-PUBLISHED-TTL:PT1H
BEGIN:VTIMEZONE
TZID:Europe/Berlin
BEGIN:DAYLIGHT
TZOFFSETFROM:+0100
TZOFFSETTO:+0200
TZNAME:CEST
DTSTART:20210328T010000
END:DAYLIGHT
BEGIN:STANDARD
TZOFFSETFROM:+0200
TZOFFSETTO:+0100
TZNAME:CET
DTSTART:20211031T010000
END:STANDARD
BEGIN:DAYLIGHT
TZOFFSETFROM:+0100
TZOFFSETTO:+0200
TZNAME:CEST
DTSTART:20220327T010000
END:DAYLIGHT
BEGIN:STANDARD
TZOFFSETFROM:+0200
TZOFFSETTO:+0100
TZNAME:CET
DTSTART:20221030T010000
END:STANDARD
BEGIN:DAYLIGHT
TZOFFSETFROM:+0100
TZOFFSETTO:+0200
TZNAME:CEST
DTSTART:20230326T010000
END:DAYLIGHT
BEGIN:STANDARD
TZOFFSETFROM:+0200
TZOFFSETTO:+0100
TZNAME:CET
DTSTART:20231029T010000
END:STANDARD
END:VTIMEZONE
BEGIN:VEVENT
DTSTART;TZID=Europe/Berlin:20220509T090000
DTEND;TZID=Europe/Berlin:20220509T100000
DTSTAMP:20260421T165106
CREATED:20220420T115034Z
LAST-MODIFIED:20220420T115034Z
UID:9976-1652086800-1652090400@invidich-institut.de
SUMMARY:Modernes Powerdancing - "Befreie deine Emotionen"
DESCRIPTION:Mischung aus Zumba\, Shuffledance und freiem Tanzen. \nImmer montags von 9-10 Uhr. \nLasst uns den Stress von der Seele tanzen und wieder Leichtigkeit\, Ausgelassenheit und Freude spüren! \nWenn wir Stress erleben und ihn nicht körperlich ausdrücken\, speichert sich immer mehr Druck in unserem Körper. Tanzen bietet uns die wunderbare Möglichkeit\, den Druck abzubauen. Dazu leite ich gezielt zum Loslassen und Befreien der Emotionen an. \nHerzensausgleich: 10\,-€ \nDu brauchst bequeme Kleidung und eine Matte. \nAb 3 Teilnehmern findet die Veranstaltung statt\, max. 10 Teilnehmer 🙂 \nWenn du dabei sein magst\, melde dich bitte bei mir bis zum Samstag vorher. \nIch freue mich auf dich. \nLena
URL:https://invidich-institut.de/event/modernes-powerdancing-befreie-deine-emotionen-11/
ATTACH;FMTTYPE=image/jpeg:https://invidich-institut.de/wp-content/uploads/2022/04/Powerdancing-1-scaled.jpg
ORGANIZER;CN="Vertrauensweg":MAILTO:Lena@vertrauensweg.de
END:VEVENT
BEGIN:VEVENT
DTSTART;TZID=Europe/Berlin:20220509T200000
DTEND;TZID=Europe/Berlin:20220509T213000
DTSTAMP:20260421T165106
CREATED:20220112T130436Z
LAST-MODIFIED:20220112T133837Z
UID:9090-1652126400-1652131800@invidich-institut.de
SUMMARY:Unsere Zoomcallreihe mit Cora Brandt "Die Gebär-Revolution". Heute: Sicherheit - neue Fakten
DESCRIPTION:Heute findet der 3. Zoomcall mit Cora Brandt zum Thema „Gebär-Revolution“ statt.\nCora war am 4.11.2021 bei uns in der Soultalkreihe. Das Interview ist in unserem YouTube-Kanal zu sehen. \n4. Soultalk im Café der Begegnungsreisen – YouTube \nCoras Weg geht nun weiter mit uns – über unseren Verlag wird ihr Buch veröffentlicht und in unserer Zoomcallreihe möchte sie intensiver auf einzelne Themenbereiche eingehen.\n \nEin Erinnern an den Ursprung. \nAlle Zoomcalls werden aufgezeichnet und stehen dann in unserem Kanal zur Verfügung. \n\n27.01.2022 Die Gebär – Revolution:\n\nDoulas\n\n\n14.03.2022 Die Gebär – Revolution:\n\nInstinktives Gebären\n\n\n09.05.2022 Die Gebär – Revolution:\n\nSicherheit – neue Fakten\n\n\n27.06.2022 Die Gebär – Revolution:\n\nKörperliche und seelische Gesundheit versus Kontrollzwang\n\n\n12.08.2022 Die Gebär – Revolution:\n\nWie geht Gebären wirklich ? Für Jugendliche\, ihre Mütter\, Großmütter und Lehrerinnen \n\n\n\nDie Zoomcalllinks findest du hier\, in Facebook sowie in unserem Telegramkanal: \nhttps://t.me/invidICH \n\nÜber Herzenszuwendungen für unser Institut und unser Wirken freuen wir uns 🥰\n\n\nKontodaten: invidICH Privatinstitut UG | DE38 4784 0065 0167 7772 00\n\n\nhttps://www.paypal.com/paypalme/invidICHInstitut\n\n\nWir freuen uns auf diese Reihe mit Cora 🙂\nCarola & Hülya
URL:https://invidich-institut.de/event/unsere-zoomcallreihe-mit-cora-brandt-die-gebaer-revolution-heute-sicherheit-neue-fakten/
LOCATION:online
ATTACH;FMTTYPE=image/jpeg:https://invidich-institut.de/wp-content/uploads/2022/01/1.jpg
ORGANIZER;CN="Carola und H%C3%BClya":MAILTO:info@invidich-institut.de
END:VEVENT
END:VCALENDAR