BEGIN:VCALENDAR
VERSION:2.0
PRODID:-//invidICH Institut - ECPv6.15.20//NONSGML v1.0//EN
CALSCALE:GREGORIAN
METHOD:PUBLISH
X-WR-CALNAME:invidICH Institut
X-ORIGINAL-URL:https://invidich-institut.de
X-WR-CALDESC:Veranstaltungen für invidICH Institut
REFRESH-INTERVAL;VALUE=DURATION:PT1H
X-Robots-Tag:noindex
X-PUBLISHED-TTL:PT1H
BEGIN:VTIMEZONE
TZID:Europe/Berlin
BEGIN:DAYLIGHT
TZOFFSETFROM:+0100
TZOFFSETTO:+0200
TZNAME:CEST
DTSTART:20210328T010000
END:DAYLIGHT
BEGIN:STANDARD
TZOFFSETFROM:+0200
TZOFFSETTO:+0100
TZNAME:CET
DTSTART:20211031T010000
END:STANDARD
BEGIN:DAYLIGHT
TZOFFSETFROM:+0100
TZOFFSETTO:+0200
TZNAME:CEST
DTSTART:20220327T010000
END:DAYLIGHT
BEGIN:STANDARD
TZOFFSETFROM:+0200
TZOFFSETTO:+0100
TZNAME:CET
DTSTART:20221030T010000
END:STANDARD
BEGIN:DAYLIGHT
TZOFFSETFROM:+0100
TZOFFSETTO:+0200
TZNAME:CEST
DTSTART:20230326T010000
END:DAYLIGHT
BEGIN:STANDARD
TZOFFSETFROM:+0200
TZOFFSETTO:+0100
TZNAME:CET
DTSTART:20231029T010000
END:STANDARD
END:VTIMEZONE
BEGIN:VEVENT
DTSTART;TZID=Europe/Berlin:20220510T210000
DTEND;TZID=Europe/Berlin:20220510T223000
DTSTAMP:20260423T125218
CREATED:20220506T105344Z
LAST-MODIFIED:20220524T062214Z
UID:10291-1652216400-1652221800@invidich-institut.de
SUMMARY:Mamasein - nicht allein - mit Lena\, Ilka und Yvonne
DESCRIPTION:Mamasein – nicht allein \nMamas – die wahren Heldinnen des Alltags\, wie wir mit unseren Kindern durch Herausforderungen (Sorgen\, Ängsten\, Schuldgefühlen u.s.w) an unsere Grenzen kommen und wachsen. \nAlle zwei Wochen treffen wir uns online\, um uns auszutauschen über die Kinder-\, Beziehungs- und Muttersein-Themen\, welche uns beschäftigen.\nGegenseitig erinnern\, inspirieren und stärken wir uns und sind nicht mehr allein. \nUnsere Kinder sind unsere größten Lehrmeister.\nErkennen wir sie\, erkennen wir uns.\nBist du bereit hinzusehen? Dann bist du bereit für Veränderungen. \nDann melde dich an.\nNach der Anmeldung senden wir dir den Link zur Veranstaltung zu.\nAlles Liebe von Herzen\, wir freuen uns auf dich\, \nLena\, Ilka und Yvonne 🙂 \nFalls du dabei sein magst\, melde dich bei uns:\nYvonne 0176 23 60 87 59\nIlka 015236930314\nLena 015231923785 \nDort bekommst du nähere Infos und den Link zur Veranstaltung\noder du meldest dich bei Lena@vertrauensweg.de\noder per Telefon an. \nWir freuen uns über jede Herzensgabe und Wertschätzung für unser Wirken.
URL:https://invidich-institut.de/event/mamasein-nicht-allein-mit-lena-ilka-und-yvonne/
LOCATION:online
ATTACH;FMTTYPE=image/jpeg:https://invidich-institut.de/wp-content/uploads/2022/05/Kopie-von-online-scaled.jpg
ORGANIZER;CN="Lena%2C Ilka und Yvonne":MAILTO:Lena@vertrauensweg.de
END:VEVENT
END:VCALENDAR