BEGIN:VCALENDAR
VERSION:2.0
PRODID:-//invidICH Institut - ECPv6.15.20//NONSGML v1.0//EN
CALSCALE:GREGORIAN
METHOD:PUBLISH
X-ORIGINAL-URL:https://invidich-institut.de
X-WR-CALDESC:Veranstaltungen für invidICH Institut
REFRESH-INTERVAL;VALUE=DURATION:PT1H
X-Robots-Tag:noindex
X-PUBLISHED-TTL:PT1H
BEGIN:VTIMEZONE
TZID:Europe/Berlin
BEGIN:DAYLIGHT
TZOFFSETFROM:+0100
TZOFFSETTO:+0200
TZNAME:CEST
DTSTART:20210328T010000
END:DAYLIGHT
BEGIN:STANDARD
TZOFFSETFROM:+0200
TZOFFSETTO:+0100
TZNAME:CET
DTSTART:20211031T010000
END:STANDARD
BEGIN:DAYLIGHT
TZOFFSETFROM:+0100
TZOFFSETTO:+0200
TZNAME:CEST
DTSTART:20220327T010000
END:DAYLIGHT
BEGIN:STANDARD
TZOFFSETFROM:+0200
TZOFFSETTO:+0100
TZNAME:CET
DTSTART:20221030T010000
END:STANDARD
BEGIN:DAYLIGHT
TZOFFSETFROM:+0100
TZOFFSETTO:+0200
TZNAME:CEST
DTSTART:20230326T010000
END:DAYLIGHT
BEGIN:STANDARD
TZOFFSETFROM:+0200
TZOFFSETTO:+0100
TZNAME:CET
DTSTART:20231029T010000
END:STANDARD
END:VTIMEZONE
BEGIN:VEVENT
DTSTART;TZID=Europe/Berlin:20220523T090000
DTEND;TZID=Europe/Berlin:20220523T100000
DTSTAMP:20260421T162935
CREATED:20220420T115327Z
LAST-MODIFIED:20220420T115327Z
UID:9980-1653296400-1653300000@invidich-institut.de
SUMMARY:Modernes Powerdancing - "Befreie deine Emotionen"
DESCRIPTION:Mischung aus Zumba\, Shuffledance und freiem Tanzen. \nImmer montags von 9-10 Uhr. \nLasst uns den Stress von der Seele tanzen und wieder Leichtigkeit\, Ausgelassenheit und Freude spüren! \nWenn wir Stress erleben und ihn nicht körperlich ausdrücken\, speichert sich immer mehr Druck in unserem Körper. Tanzen bietet uns die wunderbare Möglichkeit\, den Druck abzubauen. Dazu leite ich gezielt zum Loslassen und Befreien der Emotionen an. \nHerzensausgleich: 10\,-€ \nDu brauchst bequeme Kleidung und eine Matte. \nAb 3 Teilnehmern findet die Veranstaltung statt\, max. 10 Teilnehmer 🙂 \nWenn du dabei sein magst\, melde dich bitte bei mir bis zum Samstag vorher. \nIch freue mich auf dich. \nLena
URL:https://invidich-institut.de/event/modernes-powerdancing-befreie-deine-emotionen-13/
ATTACH;FMTTYPE=image/jpeg:https://invidich-institut.de/wp-content/uploads/2022/04/Powerdancing-1-scaled.jpg
ORGANIZER;CN="Vertrauensweg":MAILTO:Lena@vertrauensweg.de
END:VEVENT
BEGIN:VEVENT
DTSTART;TZID=Europe/Berlin:20220523T140000
DTEND;TZID=Europe/Berlin:20220523T180000
DTSTAMP:20260421T162935
CREATED:20220519T124744Z
LAST-MODIFIED:20220519T124744Z
UID:10338-1653314400-1653328800@invidich-institut.de
SUMMARY:Berührung und Kreatives mit Ana
DESCRIPTION:Am Montag\, dem 23.05 biete ich energetische Berührungs- „Me Time“ an. \nIn der Zeit von 14:00-16:00 Uhr kannst du mich buchen für eine „Wohlfühl – Me Time“.\nPro Angebot 30 min. zu einem Preis von 33 Euro.\nPro Angebot 60 min. zu einem Preis von 49 Euro. \nDu hast folgende Auswahl:\nFussauszeit\,\nKopfentspannung\,\nGesichtsberührung\,\nRückenauszeit \nAbends kannst du kreativ sein.\nWÜNSCH DIR WAS/ Lass die Energien arbeiten – und das Universum antwortet.\nDie Kraft und Magie der Energie auf Leinwand gemalt.\nSpecial Preis 22 Euro. Wir starten um 16.00 Uhr. \nAb sechs Menschen. Kinder oder Erwachsene\, alle sind willkommen. \nIch freue mich auf dich\, \nAna \nBitte melde dich bei mir an 🙂
URL:https://invidich-institut.de/event/beruehrung-und-kreatives-mit-ana-2/
LOCATION:Rheda-Wiedenbrück\, Fuggerstrasse 25\, Rheda-Wiedenbrück\, NRW\, 33378\, Deutschland
ATTACH;FMTTYPE=image/jpeg:https://invidich-institut.de/wp-content/uploads/2022/05/AnaTag-scaled.jpg
ORGANIZER;CN="Anastasia":MAILTO:anatarampouska@gmail.com
END:VEVENT
END:VCALENDAR