BEGIN:VCALENDAR
VERSION:2.0
PRODID:-//invidICH Institut - ECPv6.15.20//NONSGML v1.0//EN
CALSCALE:GREGORIAN
METHOD:PUBLISH
X-WR-CALNAME:invidICH Institut
X-ORIGINAL-URL:https://invidich-institut.de
X-WR-CALDESC:Veranstaltungen für invidICH Institut
REFRESH-INTERVAL;VALUE=DURATION:PT1H
X-Robots-Tag:noindex
X-PUBLISHED-TTL:PT1H
BEGIN:VTIMEZONE
TZID:Europe/Berlin
BEGIN:DAYLIGHT
TZOFFSETFROM:+0100
TZOFFSETTO:+0200
TZNAME:CEST
DTSTART:20210328T010000
END:DAYLIGHT
BEGIN:STANDARD
TZOFFSETFROM:+0200
TZOFFSETTO:+0100
TZNAME:CET
DTSTART:20211031T010000
END:STANDARD
BEGIN:DAYLIGHT
TZOFFSETFROM:+0100
TZOFFSETTO:+0200
TZNAME:CEST
DTSTART:20220327T010000
END:DAYLIGHT
BEGIN:STANDARD
TZOFFSETFROM:+0200
TZOFFSETTO:+0100
TZNAME:CET
DTSTART:20221030T010000
END:STANDARD
BEGIN:DAYLIGHT
TZOFFSETFROM:+0100
TZOFFSETTO:+0200
TZNAME:CEST
DTSTART:20230326T010000
END:DAYLIGHT
BEGIN:STANDARD
TZOFFSETFROM:+0200
TZOFFSETTO:+0100
TZNAME:CET
DTSTART:20231029T010000
END:STANDARD
END:VTIMEZONE
BEGIN:VEVENT
DTSTART;TZID=Europe/Berlin:20220524T200000
DTEND;TZID=Europe/Berlin:20220524T213000
DTSTAMP:20260421T162327
CREATED:20220513T110526Z
LAST-MODIFIED:20220524T062015Z
UID:10316-1653422400-1653427800@invidich-institut.de
SUMMARY:Zeit mit Carola & Alexander - Gefährten auf dem Weg der Liebe - online Veranstaltung
DESCRIPTION:Live Talk: Gefährten auf dem Weg der Liebe\n\n\n\n\nZwei Menschen führen sich immer mehr zu sich selbst und das in tiefer Liebe.\nEhe\, Beziehung\, Partnerschaft in der Form der Gefährtenschaft\, im Erkennen\, dass die Zwei 😊 Eins sind – ohne den Individualismus und die Eigenständigkeit des anderen in Frage zu stellen. \nMit Emotion\, Gefühl und Herz sprechen wir über unseren Weg aus unserem jeweiligen Erleben und wie wir als Mann und Frau in Gefährtenschaft diesen Weg miteinander gehen.\nIn unseren monatlichen Live-Talks geht es um dieses Miteinander\, um Möglichkeiten und Chancen sowie um Handlungsgrundlagen für die Reise ins eigene Herz.\nZu Beginn erzählen wir beide\, sprechen über ein uns wichtiges Thema und im Anschluss gibt es Raum und Zeit für Austausch im Miteinander.\nSei dabei und fühle dich willkommen 💞 \n\n\n\n\n\n\n\n\n\n\n\n\n\n\n\n\nLive Talk: Gefährten auf dem Weg der Liebe\nam 24.05.2022 um 20:00 Uhr\nNach deiner Anmeldung bekommst du einen Tag vor der Veranstaltung eine Mail mit dem Zugangslink. \nWas braucht es noch?\nNichts\, einfach dabei sein. \nWeitere Termine erfährst du zeitnah in unserem ANDAL’OR Telegram Kanal oder auch über unseren Newsletter. \nHier kannst du dich anmelden \nWir freuen uns auf dich 🙂\nHerzlichst\, Carola und Alexander \nÜber eine freie\, wertschätzende Herzensgabe freuen wir uns.
URL:https://invidich-institut.de/event/zeit-mit-carola-alexander-gefaehrten-auf-dem-weg-der-liebe/
ATTACH;FMTTYPE=image/jpeg:https://invidich-institut.de/wp-content/uploads/2022/05/Kopie-von-Kopie-von-online-scaled.jpg
ORGANIZER;CN="Carola und Alexander":MAILTO:info@andalor.de
END:VEVENT
BEGIN:VEVENT
DTSTART;TZID=Europe/Berlin:20220524T210000
DTEND;TZID=Europe/Berlin:20220524T223000
DTSTAMP:20260421T162327
CREATED:20220513T104611Z
LAST-MODIFIED:20220524T062814Z
UID:10314-1653426000-1653431400@invidich-institut.de
SUMMARY:Mamasein - nicht allein - mit Lena\, Ilka und Yvonne
DESCRIPTION:Mamasein – nicht allein \nMamas – die wahren Heldinnen des Alltags\, wie wir mit unseren Kindern durch Herausforderungen (Sorgen\, Ängsten\, Schuldgefühlen u.s.w) an unsere Grenzen kommen und wachsen. \nAlle zwei Wochen treffen wir uns online\, um uns auszutauschen über die Kinder-\, Beziehungs- und Muttersein-Themen\, welche uns beschäftigen.\nGegenseitig erinnern\, inspirieren und stärken wir uns und sind nicht mehr allein. \nUnsere Kinder sind unsere größten Lehrmeister.\nErkennen wir sie\, erkennen wir uns.\nBist du bereit hinzusehen? Dann bist du bereit für Veränderungen. \nDann melde dich an.\nNach der Anmeldung senden wir dir den Link zur Veranstaltung zu.\nAlles Liebe von Herzen\, wir freuen uns auf dich\, \nLena\, Ilka und Yvonne 🙂 \nFalls du dabei sein magst\, melde dich bei uns:\nYvonne 0176 23 60 87 59\nIlka 015236930314\nLena 015231923785 \nDort bekommst du nähere Infos und den Link zur Veranstaltung\noder du meldest dich bei Lena@vertrauensweg.de\noder per Telefon an. \nWir freuen uns über jede Herzensgabe und Wertschätzung für unser Wirken und sagen danke. \nGerne über unsere Crowdfundingaktion vom Institut oder\ndirekt auf Institutskonto: DE38 4784 0065 0167 7772 00\n(hier bitte mit dem Verwendungszweck: „Herzensgabe“ ) \nHerzensdank 🙂
URL:https://invidich-institut.de/event/mamasein-nicht-allein-mit-lena-ilka-und-yvonne-2/
LOCATION:online
ATTACH;FMTTYPE=image/jpeg:https://invidich-institut.de/wp-content/uploads/2022/05/Kopie-von-online-scaled.jpg
ORGANIZER;CN="Lena%2C Ilka und Yvonne":MAILTO:Lena@vertrauensweg.de
END:VEVENT
END:VCALENDAR