BEGIN:VCALENDAR
VERSION:2.0
PRODID:-//invidICH Institut - ECPv6.15.20//NONSGML v1.0//EN
CALSCALE:GREGORIAN
METHOD:PUBLISH
X-WR-CALNAME:invidICH Institut
X-ORIGINAL-URL:https://invidich-institut.de
X-WR-CALDESC:Veranstaltungen für invidICH Institut
REFRESH-INTERVAL;VALUE=DURATION:PT1H
X-Robots-Tag:noindex
X-PUBLISHED-TTL:PT1H
BEGIN:VTIMEZONE
TZID:Europe/Berlin
BEGIN:DAYLIGHT
TZOFFSETFROM:+0100
TZOFFSETTO:+0200
TZNAME:CEST
DTSTART:20210328T010000
END:DAYLIGHT
BEGIN:STANDARD
TZOFFSETFROM:+0200
TZOFFSETTO:+0100
TZNAME:CET
DTSTART:20211031T010000
END:STANDARD
BEGIN:DAYLIGHT
TZOFFSETFROM:+0100
TZOFFSETTO:+0200
TZNAME:CEST
DTSTART:20220327T010000
END:DAYLIGHT
BEGIN:STANDARD
TZOFFSETFROM:+0200
TZOFFSETTO:+0100
TZNAME:CET
DTSTART:20221030T010000
END:STANDARD
BEGIN:DAYLIGHT
TZOFFSETFROM:+0100
TZOFFSETTO:+0200
TZNAME:CEST
DTSTART:20230326T010000
END:DAYLIGHT
BEGIN:STANDARD
TZOFFSETFROM:+0200
TZOFFSETTO:+0100
TZNAME:CET
DTSTART:20231029T010000
END:STANDARD
END:VTIMEZONE
BEGIN:VEVENT
DTSTART;TZID=Europe/Berlin:20220602T180000
DTEND;TZID=Europe/Berlin:20220602T193000
DTSTAMP:20260421T165625
CREATED:20211118T155240Z
LAST-MODIFIED:20220519T070957Z
UID:8943-1654192800-1654198200@invidich-institut.de
SUMMARY:Soultalk im Café der Begegnungsreisen
DESCRIPTION:Abend 11 unserer monatlichen Soultalkreihe in unserem Café der Begegnungsreisen mit wechselnden Gesprächspartnern\, die den Abend durch eine gedankliche Reise in ihre Sicht zum Thema einleiten. Anschließend freuen wir uns auf einen offenen Austausch von Herz zu Herz.\nAbend 6 in 2022\nUnsere Gesprächsrunde wird gleichzeitig live in Facebook übertragen und die Aufnahme wird anschließend in unserem YouTube-Kanal zu finden sein.\n\n\nDie heutige Gesprächspartnerin ist Daniela Hoffmann: \n\n\n\n\n\n\n\n\n\n\nHallo ihr Lieben!\nIch bin Daniela Hoffmann\, 43 Jahre alt und komme aus Trier. Ich bin alleinerziehende Mama von 5 Kindern\, von denen noch 3 mit mir leben. So viel erst mal zu mir.\nWarum mache ich einen Soultalk mit Carola und Hülya?\nWeil mich das Schicksal oder das Leben schon oft in die Knie gezwungen hat.\nWeil ich mit meinen Erfahrungen und meiner Geschichte anderen Frauen\, Mut machen möchte.\nWeil ich spüre\, dass da draußen ganz viele Frauen sind die ähnliches durch haben. Und ich deren Ruf nach Verständnis und Hilfe spüre! Ich bin immer wieder aufgestanden\, weil ich das Leben liebe\, mit allen Facetten und aus tiefstem Herzen. Ich wünsche mir\, dass viele Frauen auch meinen Ruf hören und sich auf den Weg machen\, ihr Leben zu leben und nicht mehr zu kämpfen.\nZu Vertrauen\, dass alles richtig und gut ist! Und vor allem\, dass ihr richtig und gut seid\, wie ihr seid! Wir brauchen uns alle\, ob als Spiegel\, Gefährten\, Partner oder manchmal auch nur ein Ohr\, dass uns hört! Aufgrund meiner Erfahrungen bastle ich an einigen Projekten\, die Herzensprojekte sind \n Liebe Grüße und ich freu mich auf einen wundervollen\, ehrlichen und echten Talk\, von Soul to Soul und Herz zu Herz \n\n\n\n\n\n\n\n\n\nHast du Lust\, unser Gast zu sein und dich mit deinem Thema zu zeigen ? Melde dich bei uns !\n\nWir freuen uns auf dich\, Carola und Hülya
URL:https://invidich-institut.de/event/soultalk-im-cafe-der-begegnungsreisen-11/
LOCATION:Rheda-Wiedenbrück\, Fuggerstrasse 25\, Rheda-Wiedenbrück\, NRW\, 33378\, Deutschland
ATTACH;FMTTYPE=image/jpeg:https://invidich-institut.de/wp-content/uploads/2021/07/20210708_132407-scaled.jpg
ORGANIZER;CN="Carola und H%C3%BClya":MAILTO:info@invidich-institut.de
END:VEVENT
END:VCALENDAR