BEGIN:VCALENDAR
VERSION:2.0
PRODID:-//invidICH Institut - ECPv6.15.20//NONSGML v1.0//EN
CALSCALE:GREGORIAN
METHOD:PUBLISH
X-ORIGINAL-URL:https://invidich-institut.de
X-WR-CALDESC:Veranstaltungen für invidICH Institut
REFRESH-INTERVAL;VALUE=DURATION:PT1H
X-Robots-Tag:noindex
X-PUBLISHED-TTL:PT1H
BEGIN:VTIMEZONE
TZID:Europe/Berlin
BEGIN:DAYLIGHT
TZOFFSETFROM:+0100
TZOFFSETTO:+0200
TZNAME:CEST
DTSTART:20210328T010000
END:DAYLIGHT
BEGIN:STANDARD
TZOFFSETFROM:+0200
TZOFFSETTO:+0100
TZNAME:CET
DTSTART:20211031T010000
END:STANDARD
BEGIN:DAYLIGHT
TZOFFSETFROM:+0100
TZOFFSETTO:+0200
TZNAME:CEST
DTSTART:20220327T010000
END:DAYLIGHT
BEGIN:STANDARD
TZOFFSETFROM:+0200
TZOFFSETTO:+0100
TZNAME:CET
DTSTART:20221030T010000
END:STANDARD
BEGIN:DAYLIGHT
TZOFFSETFROM:+0100
TZOFFSETTO:+0200
TZNAME:CEST
DTSTART:20230326T010000
END:DAYLIGHT
BEGIN:STANDARD
TZOFFSETFROM:+0200
TZOFFSETTO:+0100
TZNAME:CET
DTSTART:20231029T010000
END:STANDARD
END:VTIMEZONE
BEGIN:VEVENT
DTSTART;TZID=Europe/Berlin:20220727T190000
DTEND;TZID=Europe/Berlin:20220727T203000
DTSTAMP:20260421T205154
CREATED:20220628T071920Z
LAST-MODIFIED:20220628T082907Z
UID:10808-1658948400-1658953800@invidich-institut.de
SUMMARY:Atemtraining nach Dr. Shioya - mit Carola
DESCRIPTION:Die Atemtechnik des Dr. Shioya ist eine Methode\, bei der wir 5 Elemente miteinander verbinden. \nDas Atmen\, das Affirmieren\, die Visualisierung\, das positive Denken und die Dankbarkeit. \nDas ist eine Atem-Meditations-Technik\, die sehr effektiv auf deinen Gesundheitszustand wirkt.\nDu kannst diese Methode auch nutzen\, wenn du gewisse Ziele in deinem Leben verfolgst und diese schneller und auch wirklich erreichen möchtest. \nZitat aus „Die Kraft strahlender Gesundheit“ von Nobuo Shioya: \n„Die Methode des rechten Denkens und Atmens besteht aus zwei Teilen: dem rechten Denken und dem rechten Atmen\, die zusammen eine untrennbare Einheit bilden.“ Die grundlegende Haltung mit der Atmung in deinen Alltag integriert wirkt immunsystemstärkend. \nIn Verbindung mit dem Duft und der unterstützenden Wirkung von naturreinen ätherischen Ölen und der transformierenden Wirkung der Energie- und Informationssprays von ANDAL’OR eine besondere und einmalige Kombination für dein Immunsystem.\nAbschließend gibt es noch einen Klang mit den Klanginstrumenten aus der Kristallklangmanufaktur Hilders. \nHerzensausgleich für den Kurs – 29\,-€\nMaximal 13 Teilnehmer 🙂 \nAlles Liebe zu dir\, ich freue mich auf dich\, \nCarola
URL:https://invidich-institut.de/event/atemtraining-nach-dr-shioya-mit-carola-2/
LOCATION:Rheda-Wiedenbrück\, Fuggerstrasse 25\, Rheda-Wiedenbrück\, NRW\, 33378\, Deutschland
ATTACH;FMTTYPE=image/jpeg:https://invidich-institut.de/wp-content/uploads/2022/06/Kopie-von-Leichter-Leben-Carola-scaled.jpg
ORGANIZER;CN="Carola":MAILTO:carola@invidich-institut.de
END:VEVENT
END:VCALENDAR