BEGIN:VCALENDAR
VERSION:2.0
PRODID:-//invidICH Institut - ECPv6.15.20//NONSGML v1.0//EN
CALSCALE:GREGORIAN
METHOD:PUBLISH
X-WR-CALNAME:invidICH Institut
X-ORIGINAL-URL:https://invidich-institut.de
X-WR-CALDESC:Veranstaltungen für invidICH Institut
REFRESH-INTERVAL;VALUE=DURATION:PT1H
X-Robots-Tag:noindex
X-PUBLISHED-TTL:PT1H
BEGIN:VTIMEZONE
TZID:Europe/Berlin
BEGIN:DAYLIGHT
TZOFFSETFROM:+0100
TZOFFSETTO:+0200
TZNAME:CEST
DTSTART:20210328T010000
END:DAYLIGHT
BEGIN:STANDARD
TZOFFSETFROM:+0200
TZOFFSETTO:+0100
TZNAME:CET
DTSTART:20211031T010000
END:STANDARD
BEGIN:DAYLIGHT
TZOFFSETFROM:+0100
TZOFFSETTO:+0200
TZNAME:CEST
DTSTART:20220327T010000
END:DAYLIGHT
BEGIN:STANDARD
TZOFFSETFROM:+0200
TZOFFSETTO:+0100
TZNAME:CET
DTSTART:20221030T010000
END:STANDARD
BEGIN:DAYLIGHT
TZOFFSETFROM:+0100
TZOFFSETTO:+0200
TZNAME:CEST
DTSTART:20230326T010000
END:DAYLIGHT
BEGIN:STANDARD
TZOFFSETFROM:+0200
TZOFFSETTO:+0100
TZNAME:CET
DTSTART:20231029T010000
END:STANDARD
END:VTIMEZONE
BEGIN:VEVENT
DTSTART;TZID=Europe/Berlin:20220812T200000
DTEND;TZID=Europe/Berlin:20220812T213000
DTSTAMP:20260422T000958
CREATED:20220112T131245Z
LAST-MODIFIED:20220112T133440Z
UID:9094-1660334400-1660339800@invidich-institut.de
SUMMARY:Unsere Zoomcallreihe mit Cora Brandt "Die Gebär-Revolution". Heute: Wie geht Gebären wirklich ? Für Jugendliche auf dem Weg.
DESCRIPTION:Heute findet der 5. und vorerst letzte Zoomcall dieser Reihe mit Cora Brandt zum Thema „Gebär-Revolution“ statt.\nCora war am 4.11.2021 bei uns in der Soultalkreihe. Das Interview ist in unserem YouTube-Kanal zu sehen. \n4. Soultalk im Café der Begegnungsreisen – YouTube \nCoras Weg geht nun weiter mit uns – über unseren Verlag wird ihr Buch veröffentlicht und in unserer Zoomcallreihe möchte sie intensiver auf einzelne Themenbereiche eingehen.\n \nEin Erinnern an den Ursprung. \nAlle Zoomcalls werden aufgezeichnet und stehen dann in unserem Kanal zur Verfügung. \n\n27.01.2022 Die Gebär – Revolution:\n\nDoulas\n\n\n14.03.2022 Die Gebär – Revolution:\n\nInstinktives Gebären\n\n\n09.05.2022 Die Gebär – Revolution:\n\nSicherheit – neue Fakten\n\n\n27.06.2022 Die Gebär – Revolution:\n\nKörperliche und seelische Gesundheit versus Kontrollzwang\n\n\n12.08.2022 Die Gebär – Revolution:\n\nWie geht Gebären wirklich ? Für Jugendliche\, ihre Mütter\, Großmütter und Lehrerinnen \n\n\n\nDie Zoomcalllinks findest du hier\, in Facebook sowie in unserem Telegramkanal: \nhttps://t.me/invidICH \n\nÜber Herzenszuwendungen für unser Institut und unser Wirken freuen wir uns 🥰\n\n\nKontodaten: invidICH Privatinstitut UG | DE38 4784 0065 0167 7772 00\n\n\nhttps://www.paypal.com/paypalme/invidICHInstitut\n\n\nWir freuen uns auf diese Reihe mit Cora 🙂\nCarola & Hülya
URL:https://invidich-institut.de/event/unsere-zoomcallreihe-mit-cora-brandt-die-gebaer-revolution-heute-wie-geht-gebaeren-wirklich-fuer-jugendliche-auf-dem-weg/
LOCATION:online
ATTACH;FMTTYPE=image/jpeg:https://invidich-institut.de/wp-content/uploads/2022/01/1.jpg
ORGANIZER;CN="Carola und H%C3%BClya":MAILTO:info@invidich-institut.de
END:VEVENT
END:VCALENDAR