BEGIN:VCALENDAR
VERSION:2.0
PRODID:-//invidICH Institut - ECPv6.15.20//NONSGML v1.0//EN
CALSCALE:GREGORIAN
METHOD:PUBLISH
X-ORIGINAL-URL:https://invidich-institut.de
X-WR-CALDESC:Veranstaltungen für invidICH Institut
REFRESH-INTERVAL;VALUE=DURATION:PT1H
X-Robots-Tag:noindex
X-PUBLISHED-TTL:PT1H
BEGIN:VTIMEZONE
TZID:Europe/Berlin
BEGIN:DAYLIGHT
TZOFFSETFROM:+0100
TZOFFSETTO:+0200
TZNAME:CEST
DTSTART:20210328T010000
END:DAYLIGHT
BEGIN:STANDARD
TZOFFSETFROM:+0200
TZOFFSETTO:+0100
TZNAME:CET
DTSTART:20211031T010000
END:STANDARD
BEGIN:DAYLIGHT
TZOFFSETFROM:+0100
TZOFFSETTO:+0200
TZNAME:CEST
DTSTART:20220327T010000
END:DAYLIGHT
BEGIN:STANDARD
TZOFFSETFROM:+0200
TZOFFSETTO:+0100
TZNAME:CET
DTSTART:20221030T010000
END:STANDARD
BEGIN:DAYLIGHT
TZOFFSETFROM:+0100
TZOFFSETTO:+0200
TZNAME:CEST
DTSTART:20230326T010000
END:DAYLIGHT
BEGIN:STANDARD
TZOFFSETFROM:+0200
TZOFFSETTO:+0100
TZNAME:CET
DTSTART:20231029T010000
END:STANDARD
END:VTIMEZONE
BEGIN:VEVENT
DTSTART;TZID=Europe/Berlin:20220826T170000
DTEND;TZID=Europe/Berlin:20220826T200000
DTSTAMP:20260422T001240
CREATED:20211026T152805Z
LAST-MODIFIED:20220801T080536Z
UID:8738-1661533200-1661544000@invidich-institut.de
SUMMARY:Neue Wege braucht das Land - ein Vortrag über Freitausch mit Dominik
DESCRIPTION:Im Vortrag erfahrt ihr zunächst wie aus einer fixen Idee einer Einkaufsgemeinschaft\nplötzlich ein spielerisch leichter Weg entstand- in eine gemeinsame und harmonische neue\nZukunft voller Selbstbestimmung und Autarkie. Der Hauptteil des Vortrages widmet sich\ndann den vielen kreativen Möglichkeiten\, die sich in einer Gruppe begeisterter Menschen\nergeben können – und was davon gemeinsam bereits realisiert wurde.\nDas Besondere an Freitausch ist die Möglichkeit\, viele neuen Ideen auf sehr kreative und\nangenehme Art zu kombinieren und in sein tägliches Leben einzuflechten – und zwar jeder in\nseinem eigenen\, für ihn stimmigen Maß\, völlig frei von Druck oder Erwartungen anderer.\nDurch viele gemeinsame Projekte\, eine gelebte wohlwollende Gemeinschaft und dem Teilen\nvon echter authentischer Begeisterung können die ich-bezogenen Gedanken Stück für Stück\nin Richtung gemeinschaftliches Denken gewandelt werden.\nMan findet durch das Gefühl „Teil eines großen Ganzen zu sein“ wieder in seine ureigene\nKraft – und erkennt sein Herz als Quelle wahrer Begeisterung.\nDer Infoabend beginnt mit einem Vortrag [ca 2\,5h] über über die Möglichkeiten bei\nFreitausch\, anschließend laden spezielle Freitauschprodukte sowie frisches Quellwasser zum\nProbieren ein.\nWer mag\, darf gern etwas zum gemeinsamen Buffet beisteuern und auf diese Weise über\nliebevoll hergestellte Köstlichkeiten neue nette Menschen kennenlernen & verwöhnen.\nNach dem Essen ist jeder herzlich eingeladen\, sich in lockerer Atmosphäre an einem\ngemeinsamen Interessens- und Ideenaustausch zu beteiligen.\nWertschätzung (für Vortrag\, Raum\, Buffet und zur Unterstützung des Projekts) nach freiem Ermessen.\nAnmeldung bis 22.08.2022 über info@invidich-institut.de
URL:https://invidich-institut.de/event/neue-wege-braucht-das-land/
LOCATION:Rheda-Wiedenbrück\, Fuggerstrasse 25\, Rheda-Wiedenbrück\, NRW\, 33378\, Deutschland
ATTACH;FMTTYPE=image/jpeg:https://invidich-institut.de/wp-content/uploads/2021/10/Kopie-von-Kopie-von-Kopie-von-MamaSein-nicht-allein-online.jpg
ORGANIZER;CN="Carola und H%C3%BClya":MAILTO:info@invidich-institut.de
END:VEVENT
END:VCALENDAR