BEGIN:VCALENDAR
VERSION:2.0
PRODID:-//invidICH Institut - ECPv6.15.20//NONSGML v1.0//EN
CALSCALE:GREGORIAN
METHOD:PUBLISH
X-WR-CALNAME:invidICH Institut
X-ORIGINAL-URL:https://invidich-institut.de
X-WR-CALDESC:Veranstaltungen für invidICH Institut
REFRESH-INTERVAL;VALUE=DURATION:PT1H
X-Robots-Tag:noindex
X-PUBLISHED-TTL:PT1H
BEGIN:VTIMEZONE
TZID:Europe/Berlin
BEGIN:DAYLIGHT
TZOFFSETFROM:+0100
TZOFFSETTO:+0200
TZNAME:CEST
DTSTART:20210328T010000
END:DAYLIGHT
BEGIN:STANDARD
TZOFFSETFROM:+0200
TZOFFSETTO:+0100
TZNAME:CET
DTSTART:20211031T010000
END:STANDARD
BEGIN:DAYLIGHT
TZOFFSETFROM:+0100
TZOFFSETTO:+0200
TZNAME:CEST
DTSTART:20220327T010000
END:DAYLIGHT
BEGIN:STANDARD
TZOFFSETFROM:+0200
TZOFFSETTO:+0100
TZNAME:CET
DTSTART:20221030T010000
END:STANDARD
BEGIN:DAYLIGHT
TZOFFSETFROM:+0100
TZOFFSETTO:+0200
TZNAME:CEST
DTSTART:20230326T010000
END:DAYLIGHT
BEGIN:STANDARD
TZOFFSETFROM:+0200
TZOFFSETTO:+0100
TZNAME:CET
DTSTART:20231029T010000
END:STANDARD
END:VTIMEZONE
BEGIN:VEVENT
DTSTART;TZID=Europe/Berlin:20220827T100000
DTEND;TZID=Europe/Berlin:20220827T160000
DTSTAMP:20260425T122542
CREATED:20220714T092028Z
LAST-MODIFIED:20220726T083147Z
UID:10897-1661594400-1661616000@invidich-institut.de
SUMMARY:"invidICH-Tag - Zeit für dICH  - Thementag 4 - "ureigene Kraft" - bist du bereit für dein wahres Sein?
DESCRIPTION:Lust auf Zeit mit dir ?\nLust auf ein gemeinsames Frühstück in einer familiären Wohlfühlatmosphäre ?\nLust auf echte wertschätzende Begegnung von Herz zu Herz und von Seele zu Seele ? \nDann lass uns diesen Tag gemeinsam verbringen. \nWir starten am großen Familientisch mit einem Frühstück.\nJeder bringt etwas mit\, so dass die Tafel reich gedeckt ist.\nDenn – jeder bringt genau das mit\, was allen gut tut. Nicht nur für den gedeckten Tisch.\n\nIn diesen Momenten des SichSelbstBegegnens ist es möglich\, in der Gemeinsamkeit seine Einzigartigkeit herauszufinden.\nDenn – durch deine Augen bin ICH DU. Wir dienen einander im Erkennen\, im Erinnern.\nIn unserem Raum der freien Energie geht es nach dem Frühstück mit einer Meditation um 11 Uhr oben im Klang-und Heilraum ins Thema „ureigene Kraft“ hinein. \nWarum bist du hier ?\nHast du Angst vor dem Tod ?\nFührst du ein erfülltes Leben?\nKennst du den Zweck deiner Existenz? \nLass uns gemeinsam schauen\, welche Themen sich zeigen. \nLiebevoll begleitet von erfahrenen Begleitern. \nDu findest \n\nRaum für dich\nMeditationszeit\nKlang für den Körper\nNährendes für Körper\, Geist und Seele\nAustausch von Mensch zu Mensch\nEntspannung\nMöglichkeiten – gesehen\, gehört\, verstanden\, angenommen zu werden\nMöglichkeiten dich zu zeigen\, zu sehen\, zu hören\, zu verstehen und anzunehmen\nImpulse für dein JETZT\nDuft für die Sinne\n\nKomm einfach in Wohlfühlsachen\, für Getränke ist gesorgt.\nWir freuen uns auf dein Ja zu dir\, auf dich. \nHerzensgrüße in Vorfreude\,\nCarola und Hülya \nHerzensausgleich für den Tag: 44\,-€ \nMit Anmeldung:\ninfo@invidich-institut.de \n 
URL:https://invidich-institut.de/event/invidich-tag-zeit-fuer-dich-thementag-4-ureigene-kraft/
LOCATION:Rheda-Wiedenbrück\, Fuggerstrasse 25\, Rheda-Wiedenbrück\, NRW\, 33378\, Deutschland
ATTACH;FMTTYPE=image/jpeg:https://invidich-institut.de/wp-content/uploads/2022/07/Kopie-von-Thementag-Kritikfaehigkeit-scaled.jpg
ORGANIZER;CN="Carola und H%C3%BClya":MAILTO:info@invidich-institut.de
END:VEVENT
BEGIN:VEVENT
DTSTART;TZID=Europe/Berlin:20220827T170000
DTEND;TZID=Europe/Berlin:20220827T200000
DTSTAMP:20260425T122542
CREATED:20220817T110700Z
LAST-MODIFIED:20220817T110700Z
UID:10976-1661619600-1661630400@invidich-institut.de
SUMMARY:Wohltätigkeitsbasar - finde einen Schatz für dich !
DESCRIPTION:Zum Abschluss der Fuggerstraße und für den Übergang ins neue Wirken veranstalten wir einen Wohltätigkeitsbasar hier bei uns vor Ort. \nWenn du einen Schatz daheim hast\, den du nicht mehr brauchst\, dann kannst du ihn gern mitbringen und für das Institut auf dem Basar verkaufen.\nWenn du einen Schatz finden möchtest\, dann komm vorbei und fühl dich rein. \nVon 17 – 20 Uhr hast du die Möglichkeit\, hier vor Ort mit uns zu sein und deine Schätze zu finden.\nAuch für dein Wohl kannst du etwas tun und Angebote buchen. Mokkatassenseance oder eine Klangmassage\, eine energetische Körper-Seelen-Massage – was dir gut tut. Möglichkeiten gibt es viele. \nWir freuen uns auf dich\, \nCarola & Hülya
URL:https://invidich-institut.de/event/wohltaetigkeitsbasar-finde-einen-schatz-fuer-dich/
LOCATION:Rheda-Wiedenbrück\, Fuggerstrasse 25\, Rheda-Wiedenbrück\, NRW\, 33378\, Deutschland
ATTACH;FMTTYPE=image/jpeg:https://invidich-institut.de/wp-content/uploads/2022/08/Wohltaetigkeitsbasar-scaled.jpg
ORGANIZER;CN="Carola und H%C3%BClya":MAILTO:info@invidich-institut.de
END:VEVENT
END:VCALENDAR