BEGIN:VCALENDAR
VERSION:2.0
PRODID:-//invidICH Institut - ECPv6.15.20//NONSGML v1.0//EN
CALSCALE:GREGORIAN
METHOD:PUBLISH
X-ORIGINAL-URL:https://invidich-institut.de
X-WR-CALDESC:Veranstaltungen für invidICH Institut
REFRESH-INTERVAL;VALUE=DURATION:PT1H
X-Robots-Tag:noindex
X-PUBLISHED-TTL:PT1H
BEGIN:VTIMEZONE
TZID:Europe/Berlin
BEGIN:DAYLIGHT
TZOFFSETFROM:+0100
TZOFFSETTO:+0200
TZNAME:CEST
DTSTART:20210328T010000
END:DAYLIGHT
BEGIN:STANDARD
TZOFFSETFROM:+0200
TZOFFSETTO:+0100
TZNAME:CET
DTSTART:20211031T010000
END:STANDARD
BEGIN:DAYLIGHT
TZOFFSETFROM:+0100
TZOFFSETTO:+0200
TZNAME:CEST
DTSTART:20220327T010000
END:DAYLIGHT
BEGIN:STANDARD
TZOFFSETFROM:+0200
TZOFFSETTO:+0100
TZNAME:CET
DTSTART:20221030T010000
END:STANDARD
BEGIN:DAYLIGHT
TZOFFSETFROM:+0100
TZOFFSETTO:+0200
TZNAME:CEST
DTSTART:20230326T010000
END:DAYLIGHT
BEGIN:STANDARD
TZOFFSETFROM:+0200
TZOFFSETTO:+0100
TZNAME:CET
DTSTART:20231029T010000
END:STANDARD
END:VTIMEZONE
BEGIN:VEVENT
DTSTART;TZID=Europe/Berlin:20220915T183000
DTEND;TZID=Europe/Berlin:20220915T200000
DTSTAMP:20260425T141937
CREATED:20220822T141402Z
LAST-MODIFIED:20220915T161621Z
UID:11073-1663266600-1663272000@invidich-institut.de
SUMMARY:Soultalk im Café der Begegnungsreisen
DESCRIPTION:Abend 14 unserer monatlichen Soultalkreihe in unserem Café der Begegnungsreisen mit wechselnden Gesprächspartnern\, die den Abend durch eine gedankliche Reise in ihre Sicht zum Thema einleiten. Anschließend freuen wir uns auf einen offenen Austausch von Herz zu Herz.\nAbend 9 in 2022\nUnsere Gesprächsrunde wird per Zoom stattfinden\, wird auch aufgezeichnet und die Aufnahme wird anschließend in unserem YouTube-Kanal zu finden sein.\n\nDie heutige Gesprächspartnerin/der heutige Gesprächspartner ist Yvonne Kunz.\nWegbegleitung\, Coaching\, Berührung und Illustrationen. Lass dich überraschen.\n\n\nWir freuen uns auf dich\, Carola und Hülya
URL:https://invidich-institut.de/event/soultalk-im-cafe-der-begegnungsreisen-14/
LOCATION:online
ATTACH;FMTTYPE=image/jpeg:https://invidich-institut.de/wp-content/uploads/2021/07/20210708_132407-scaled.jpg
ORGANIZER;CN="Carola und H%C3%BClya":MAILTO:info@invidich-institut.de
END:VEVENT
END:VCALENDAR