BEGIN:VCALENDAR
VERSION:2.0
PRODID:-//invidICH Institut - ECPv6.15.20//NONSGML v1.0//EN
CALSCALE:GREGORIAN
METHOD:PUBLISH
X-ORIGINAL-URL:https://invidich-institut.de
X-WR-CALDESC:Veranstaltungen für invidICH Institut
REFRESH-INTERVAL;VALUE=DURATION:PT1H
X-Robots-Tag:noindex
X-PUBLISHED-TTL:PT1H
BEGIN:VTIMEZONE
TZID:Europe/Berlin
BEGIN:DAYLIGHT
TZOFFSETFROM:+0100
TZOFFSETTO:+0200
TZNAME:CEST
DTSTART:20220327T010000
END:DAYLIGHT
BEGIN:STANDARD
TZOFFSETFROM:+0200
TZOFFSETTO:+0100
TZNAME:CET
DTSTART:20221030T010000
END:STANDARD
BEGIN:DAYLIGHT
TZOFFSETFROM:+0100
TZOFFSETTO:+0200
TZNAME:CEST
DTSTART:20230326T010000
END:DAYLIGHT
BEGIN:STANDARD
TZOFFSETFROM:+0200
TZOFFSETTO:+0100
TZNAME:CET
DTSTART:20231029T010000
END:STANDARD
BEGIN:DAYLIGHT
TZOFFSETFROM:+0100
TZOFFSETTO:+0200
TZNAME:CEST
DTSTART:20240331T010000
END:DAYLIGHT
BEGIN:STANDARD
TZOFFSETFROM:+0200
TZOFFSETTO:+0100
TZNAME:CET
DTSTART:20241027T010000
END:STANDARD
END:VTIMEZONE
BEGIN:VEVENT
DTSTART;TZID=Europe/Berlin:20230406T203000
DTEND;TZID=Europe/Berlin:20230406T220000
DTSTAMP:20260426T060355
CREATED:20230319T114814Z
LAST-MODIFIED:20230319T131553Z
UID:11851-1680813000-1680818400@invidich-institut.de
SUMMARY:Innehalten - SeelenReiseZeit für DICH - mit Carola
DESCRIPTION:Hast du Lust auf eine Innenreise ?\nMit besonderem Bergkristallklang ?\nDer dein System in Balance bringt ?\nMit einer gesprochenen Meditation ?\nMit entspannenden Düften ?\nMit Kerzen ?\nIn absoluter Wohlfühlenergie in einem geschützten Raum ? \nDann melde dich an.\n12 Plätze sind frei. \nEine besondere Auftankzeit\, denn die Klanginstrumente mit der Essenz von Bergkristall unterstützen die Balance bzw. die Klärung der Frequenz deines Körpers.\nNach einem Beginn mit diesen Instrumenten folgt eine Meditation mit bestimmten Frequenzen passend zur Zeitqualität. \nDie Reise in dein Inneres lädt neue Energien in deine Zeit ein.\nMit den Energie- und Informationssprays von ANDAL’OR \, die den Raum vorbereiten und dein Feld nähren und mit harmonischem Kerzenschein\, mit dem du in deine wohlige Ich-Zeit eintauchen kannst. \nDiese Abende finden nun im Haus Wohlsein bei Jutta statt\, ein besonderen Ort mit besonderen Energien und ganz viel Liebe. \nIch freue mich auf diese Zeit von Herzen.\nCarola \nLust drauf ?\nDann melde dich bitte per E-Mail an: \ncarola@invidich-institut.de \nBitte komm in Wohlfühlsachen mit Yogamatte\, Kissen\, Decke. \nWertschätzungsbeitrag 15\,-€\nDu kannst den Beitrag gern per Paypal vorab überweisen\, damit sicherst du dir deinen Platz.\nNatürlich kannst du auch gerne mehr geben\, wenn du das so fühlst. \nDie Veranstaltung findet ab 5 Anmeldungen statt.
URL:https://invidich-institut.de/event/innehalten-seelenreisezeit-fuer-dich-mit-carola/
LOCATION:Gütersloh Isselhorst\, Haus Wohlsein\, Krullsweg 46\, Gütersloh / Isselhorst\, 33334
ATTACH;FMTTYPE=image/jpeg:https://invidich-institut.de/wp-content/uploads/2023/03/Innehalten-SeelenReiseZeit-scaled.jpg
ORGANIZER;CN="Carola":MAILTO:carola@invidich-institut.de
END:VEVENT
END:VCALENDAR