BEGIN:VCALENDAR
VERSION:2.0
PRODID:-//invidICH Institut - ECPv6.15.20//NONSGML v1.0//EN
CALSCALE:GREGORIAN
METHOD:PUBLISH
X-WR-CALNAME:invidICH Institut
X-ORIGINAL-URL:https://invidich-institut.de
X-WR-CALDESC:Veranstaltungen für invidICH Institut
REFRESH-INTERVAL;VALUE=DURATION:PT1H
X-Robots-Tag:noindex
X-PUBLISHED-TTL:PT1H
BEGIN:VTIMEZONE
TZID:Europe/Berlin
BEGIN:DAYLIGHT
TZOFFSETFROM:+0100
TZOFFSETTO:+0200
TZNAME:CEST
DTSTART:20210328T010000
END:DAYLIGHT
BEGIN:STANDARD
TZOFFSETFROM:+0200
TZOFFSETTO:+0100
TZNAME:CET
DTSTART:20211031T010000
END:STANDARD
BEGIN:DAYLIGHT
TZOFFSETFROM:+0100
TZOFFSETTO:+0200
TZNAME:CEST
DTSTART:20220327T010000
END:DAYLIGHT
BEGIN:STANDARD
TZOFFSETFROM:+0200
TZOFFSETTO:+0100
TZNAME:CET
DTSTART:20221030T010000
END:STANDARD
BEGIN:DAYLIGHT
TZOFFSETFROM:+0100
TZOFFSETTO:+0200
TZNAME:CEST
DTSTART:20230326T010000
END:DAYLIGHT
BEGIN:STANDARD
TZOFFSETFROM:+0200
TZOFFSETTO:+0100
TZNAME:CET
DTSTART:20231029T010000
END:STANDARD
END:VTIMEZONE
BEGIN:VEVENT
DTSTART;TZID=Europe/Berlin:20220701T163000
DTEND;TZID=Europe/Berlin:20220701T173000
DTSTAMP:20260421T202153
CREATED:20220517T100352Z
LAST-MODIFIED:20220517T100352Z
UID:10323-1656693000-1656696600@invidich-institut.de
SUMMARY:Yoga für Kinder von 4-7 Jahren
DESCRIPTION:Yoga für Kinder \nYoga bietet die Gelegenheit\, sich voll und ganz auf seine Intuition zu verlassen. Es fördert die Kreativität und hat eine positive Auswirkung auf unsere Konzentration. \nDurch das Praktizieren von Yoga werden uns Wege zu unserem körperlichen\, geistigen und seelischen Wohlbefinden gezeigt. \nEs lässt uns unsere innere Mitte finden und unterstützt unsere Selbstheilungskräfte. \nIn diesem Yoga-Kurs möchte ich Kindern auf spielerischem Weg ermöglichen\, sich selbst in Ruhe und Entspannung zu erfahren und die Gelegenheit bieten\, sich vollkommen auf den sechsten Sinn\, unsere Intuition\, zu verlassen. \nWas du brauchst: \n› eine Yoga-Matte oder ein Handtuch\n› bequeme Kleidung\n› dich ♥ \nDer Kurs ist für Kinder im Alter von vier bis sieben Jahren und findet ab vier Teilnehmern statt. \nAb sechs Teilnehmer ist der Kurs voll. \nHerzensausgleich im Juli:\n55€ \nTermine: freitags 16.30 bis 17.30 Uhr\n1.7. / 8.7. / 15.7. / 22.7. / 29.7.
URL:https://invidich-institut.de/event/yoga-fuer-kinder-von-4-7-jahren-10/
LOCATION:Rheda-Wiedenbrück\, Fuggerstrasse 25\, Rheda-Wiedenbrück\, NRW\, 33378\, Deutschland
ATTACH;FMTTYPE=image/jpeg:https://invidich-institut.de/wp-content/uploads/2022/02/photo_2022-02-06_17-55-31.jpg
ORGANIZER;CN="Leana":MAILTO:leana.peske@gmx.de
END:VEVENT
BEGIN:VEVENT
DTSTART;TZID=Europe/Berlin:20220708T150000
DTEND;TZID=Europe/Berlin:20220708T210000
DTSTAMP:20260421T202153
CREATED:20220608T141232Z
LAST-MODIFIED:20220608T141232Z
UID:10621-1657292400-1657314000@invidich-institut.de
SUMMARY:Berührung und Kreatives mit Ana
DESCRIPTION:Am Freitag\, dem 08.07. biete ich energetische Berührungs- „Me Time“ an. \nIn der Zeit von 15:00-18:00 Uhr kannst du mich buchen für eine „Wohlfühl – Me Time“.\nPro Angebot 30 min. zu einem Preis von 33 Euro.\nPro Angebot 60 min. zu einem Preis von 49 Euro. \nDu hast folgende Auswahl:\nFussauszeit\,\nKopfentspannung\,\nGesichtsberührung\,\nRückenauszeit \nAbends kannst du kreativ sein.\nWÜNSCH DIR WAS/ Lass die Energien arbeiten – und das Universum antwortet.\nDie Kraft und Magie der Energie auf Leinwand gemalt.\nSpecial Preis 22 Euro. Wir starten um 18.00 Uhr. \nAb sechs Menschen. Kinder oder Erwachsene\, alle sind willkommen. \nIch freue mich auf dich\, \nAna \nBitte melde dich bei mir an 🙂
URL:https://invidich-institut.de/event/beruehrung-und-kreatives-mit-ana-4/
LOCATION:Rheda-Wiedenbrück\, Fuggerstrasse 25\, Rheda-Wiedenbrück\, NRW\, 33378\, Deutschland
ATTACH;FMTTYPE=image/jpeg:https://invidich-institut.de/wp-content/uploads/2022/05/AnaTag-scaled.jpg
ORGANIZER;CN="Anastasia":MAILTO:anatarampouska@gmail.com
END:VEVENT
BEGIN:VEVENT
DTSTART;TZID=Europe/Berlin:20220708T163000
DTEND;TZID=Europe/Berlin:20220708T173000
DTSTAMP:20260421T202153
CREATED:20220517T100632Z
LAST-MODIFIED:20220517T100632Z
UID:10325-1657297800-1657301400@invidich-institut.de
SUMMARY:Yoga für Kinder von 4-7 Jahren
DESCRIPTION:Yoga für Kinder \nYoga bietet die Gelegenheit\, sich voll und ganz auf seine Intuition zu verlassen. Es fördert die Kreativität und hat eine positive Auswirkung auf unsere Konzentration. \nDurch das Praktizieren von Yoga werden uns Wege zu unserem körperlichen\, geistigen und seelischen Wohlbefinden gezeigt. \nEs lässt uns unsere innere Mitte finden und unterstützt unsere Selbstheilungskräfte. \nIn diesem Yoga-Kurs möchte ich Kindern auf spielerischem Weg ermöglichen\, sich selbst in Ruhe und Entspannung zu erfahren und die Gelegenheit bieten\, sich vollkommen auf den sechsten Sinn\, unsere Intuition\, zu verlassen. \nWas du brauchst: \n› eine Yoga-Matte oder ein Handtuch\n› bequeme Kleidung\n› dich ♥ \nDer Kurs ist für Kinder im Alter von vier bis sieben Jahren und findet ab vier Teilnehmern statt. \nAb sechs Teilnehmer ist der Kurs voll. \nHerzensausgleich im Juli:\n55€ \nTermine: freitags 16.30 bis 17.30 Uhr\n1.7. / 8.7. / 15.7. / 22.7. / 29.7.
URL:https://invidich-institut.de/event/yoga-fuer-kinder-von-4-7-jahren-11/
LOCATION:Rheda-Wiedenbrück\, Fuggerstrasse 25\, Rheda-Wiedenbrück\, NRW\, 33378\, Deutschland
ATTACH;FMTTYPE=image/jpeg:https://invidich-institut.de/wp-content/uploads/2022/02/photo_2022-02-06_17-55-31.jpg
ORGANIZER;CN="Leana":MAILTO:leana.peske@gmx.de
END:VEVENT
BEGIN:VEVENT
DTSTART;TZID=Europe/Berlin:20220714T100000
DTEND;TZID=Europe/Berlin:20220714T180000
DTSTAMP:20260421T202153
CREATED:20220628T065623Z
LAST-MODIFIED:20220628T065623Z
UID:10801-1657792800-1657821600@invidich-institut.de
SUMMARY:Hülya & Carola Spezialtag
DESCRIPTION:Wöchentlich bieten wir ab jetzt unseren Spezialtag an.\nWir beide öffnen den Raum für 1:1 Heilreisen. Auf dem Weg in deine ureigene Kraft. \nUnten\, im Cafè der Begegnungsreisen\, bietet Hülya Mokkatassenreading an.\nCa. 60-90min verbindet sich Hülya mit deinem Feld und stellt sich als Medium zur Verfügung.\nMit deiner Erlaubnis geht es in die Sichtbarkeit deiner verborgenen Themen.\nAusgleich für diese Reise 102\,-€. \nOben\, im Klang-Heilraum\, kannst du bei Carola verschiedene Reisen zur Transformation deiner sichtbaren oder nicht sichtbaren Themen buchen – jede ca. 60-90min: \n\nOb KlangHealingSessions mit den Kristallklanginstrumenten und einer Reise in deinen Seelenraum – 90\,-€\nHawaiianische Kieferbalance – 240\,-€\nenergetische Wirbelsäulenaufrichtung – 110\,-€\nZielklarheit und Ressourcencheck – 144\,-€\noder ob\nAuflösung alter Glaubenskonstrukte über eine tiefe Reise in dein Bewusstsein – 90\,-€\n\n…….alles möglich\, deine Entscheidung. \nTermine gibt es jeweils bei uns um\n10 Uhr\n12 Uhr\n14 Uhr\n16 Uhr und\n18 Uhr \nWir begleiten dich von Herzen gern in dein immer freieres Sein.\nBewusst\, wertschätzend und verbunden im HerzRaum.\nIn einer Wohlfühlatmosphäre in der kompletten Annahme deiner Energie. \nAnmeldung und Buchung über:\ninfo(at)invidich-institut.de\n+49 172 4234634 (Carola)\n+49 175 8251093 (Hülya) \nBist du bereit ?
URL:https://invidich-institut.de/event/huelya-carola-spezialtag-5/
LOCATION:Rheda-Wiedenbrück\, Fuggerstrasse 25\, Rheda-Wiedenbrück\, NRW\, 33378\, Deutschland
ATTACH;FMTTYPE=image/jpeg:https://invidich-institut.de/wp-content/uploads/2022/05/Kopie-von-AnaTag.jpg
ORGANIZER;CN="Carola und H%C3%BClya":MAILTO:info@invidich-institut.de
END:VEVENT
BEGIN:VEVENT
DTSTART;TZID=Europe/Berlin:20220714T180000
DTEND;TZID=Europe/Berlin:20220714T193000
DTSTAMP:20260421T202153
CREATED:20211118T155354Z
LAST-MODIFIED:20220705T121541Z
UID:8945-1657821600-1657827000@invidich-institut.de
SUMMARY:Soultalk im Café der Begegnungsreisen
DESCRIPTION:Abend 12 unserer monatlichen Soultalkreihe in unserem Café der Begegnungsreisen mit wechselnden Gesprächspartnern\, die den Abend durch eine gedankliche Reise in ihre Sicht zum Thema einleiten. Anschließend freuen wir uns auf einen offenen Austausch von Herz zu Herz.\nAbend 7 in 2022\nUnsere Gesprächsrunde wird gleichzeitig live in Facebook übertragen und die Aufnahme wird anschließend in unserem YouTube-Kanal zu finden sein.\n\nDie heutige Gesprächspartnerin ist Kathleen Rose vom Rosehof in Marke.\nDas Leben ist ein spannendes Geschenk und über ihre Geschenke und ihren Herzensweg werden wir sprechen.\n\nHast du Lust\, auch einmal unser Gast zu sein und dich mit deinem Thema zu zeigen ? Melde dich bei uns !\n\nWir freuen uns auf dich\, Carola und Hülya
URL:https://invidich-institut.de/event/soultalk-im-cafe-der-begegnungsreisen-12/
LOCATION:Rheda-Wiedenbrück\, Fuggerstrasse 25\, Rheda-Wiedenbrück\, NRW\, 33378\, Deutschland
ATTACH;FMTTYPE=image/jpeg:https://invidich-institut.de/wp-content/uploads/2021/07/20210708_132407-scaled.jpg
ORGANIZER;CN="Carola und H%C3%BClya":MAILTO:info@invidich-institut.de
END:VEVENT
BEGIN:VEVENT
DTSTART;TZID=Europe/Berlin:20220715T163000
DTEND;TZID=Europe/Berlin:20220715T173000
DTSTAMP:20260421T202153
CREATED:20220517T100726Z
LAST-MODIFIED:20220517T100726Z
UID:10327-1657902600-1657906200@invidich-institut.de
SUMMARY:Yoga für Kinder von 4-7 Jahren
DESCRIPTION:Yoga für Kinder \nYoga bietet die Gelegenheit\, sich voll und ganz auf seine Intuition zu verlassen. Es fördert die Kreativität und hat eine positive Auswirkung auf unsere Konzentration. \nDurch das Praktizieren von Yoga werden uns Wege zu unserem körperlichen\, geistigen und seelischen Wohlbefinden gezeigt. \nEs lässt uns unsere innere Mitte finden und unterstützt unsere Selbstheilungskräfte. \nIn diesem Yoga-Kurs möchte ich Kindern auf spielerischem Weg ermöglichen\, sich selbst in Ruhe und Entspannung zu erfahren und die Gelegenheit bieten\, sich vollkommen auf den sechsten Sinn\, unsere Intuition\, zu verlassen. \nWas du brauchst: \n› eine Yoga-Matte oder ein Handtuch\n› bequeme Kleidung\n› dich ♥ \nDer Kurs ist für Kinder im Alter von vier bis sieben Jahren und findet ab vier Teilnehmern statt. \nAb sechs Teilnehmer ist der Kurs voll. \nHerzensausgleich im Juli:\n55€ \nTermine: freitags 16.30 bis 17.30 Uhr\n1.7. / 8.7. / 15.7. / 22.7. / 29.7.
URL:https://invidich-institut.de/event/yoga-fuer-kinder-von-4-7-jahren-12/
LOCATION:Rheda-Wiedenbrück\, Fuggerstrasse 25\, Rheda-Wiedenbrück\, NRW\, 33378\, Deutschland
ATTACH;FMTTYPE=image/jpeg:https://invidich-institut.de/wp-content/uploads/2022/02/photo_2022-02-06_17-55-31.jpg
ORGANIZER;CN="Leana":MAILTO:leana.peske@gmx.de
END:VEVENT
BEGIN:VEVENT
DTSTART;TZID=Europe/Berlin:20220719T100000
DTEND;TZID=Europe/Berlin:20220719T180000
DTSTAMP:20260421T202153
CREATED:20220628T065734Z
LAST-MODIFIED:20220628T065734Z
UID:10803-1658224800-1658253600@invidich-institut.de
SUMMARY:Hülya & Carola Spezialtag
DESCRIPTION:Wöchentlich bieten wir ab jetzt unseren Spezialtag an.\nWir beide öffnen den Raum für 1:1 Heilreisen. Auf dem Weg in deine ureigene Kraft. \nUnten\, im Cafè der Begegnungsreisen\, bietet Hülya Mokkatassenreading an.\nCa. 60-90min verbindet sich Hülya mit deinem Feld und stellt sich als Medium zur Verfügung.\nMit deiner Erlaubnis geht es in die Sichtbarkeit deiner verborgenen Themen.\nAusgleich für diese Reise 102\,-€. \nOben\, im Klang-Heilraum\, kannst du bei Carola verschiedene Reisen zur Transformation deiner sichtbaren oder nicht sichtbaren Themen buchen – jede ca. 60-90min: \n\nOb KlangHealingSessions mit den Kristallklanginstrumenten und einer Reise in deinen Seelenraum – 90\,-€\nHawaiianische Kieferbalance – 240\,-€\nenergetische Wirbelsäulenaufrichtung – 110\,-€\nZielklarheit und Ressourcencheck – 144\,-€\noder ob\nAuflösung alter Glaubenskonstrukte über eine tiefe Reise in dein Bewusstsein – 90\,-€\n\n…….alles möglich\, deine Entscheidung. \nTermine gibt es jeweils bei uns um\n10 Uhr\n12 Uhr\n14 Uhr\n16 Uhr und\n18 Uhr \nWir begleiten dich von Herzen gern in dein immer freieres Sein.\nBewusst\, wertschätzend und verbunden im HerzRaum.\nIn einer Wohlfühlatmosphäre in der kompletten Annahme deiner Energie. \nAnmeldung und Buchung über:\ninfo(at)invidich-institut.de\n+49 172 4234634 (Carola)\n+49 175 8251093 (Hülya) \nBist du bereit ?
URL:https://invidich-institut.de/event/huelya-carola-spezialtag-6/
LOCATION:Rheda-Wiedenbrück\, Fuggerstrasse 25\, Rheda-Wiedenbrück\, NRW\, 33378\, Deutschland
ATTACH;FMTTYPE=image/jpeg:https://invidich-institut.de/wp-content/uploads/2022/05/Kopie-von-AnaTag.jpg
ORGANIZER;CN="Carola und H%C3%BClya":MAILTO:info@invidich-institut.de
END:VEVENT
BEGIN:VEVENT
DTSTART;TZID=Europe/Berlin:20220722T163000
DTEND;TZID=Europe/Berlin:20220722T163000
DTSTAMP:20260421T202153
CREATED:20220517T100825Z
LAST-MODIFIED:20220517T100825Z
UID:10329-1658507400-1658507400@invidich-institut.de
SUMMARY:Yoga für Kinder von 4-7 Jahren
DESCRIPTION:Yoga für Kinder \nYoga bietet die Gelegenheit\, sich voll und ganz auf seine Intuition zu verlassen. Es fördert die Kreativität und hat eine positive Auswirkung auf unsere Konzentration. \nDurch das Praktizieren von Yoga werden uns Wege zu unserem körperlichen\, geistigen und seelischen Wohlbefinden gezeigt. \nEs lässt uns unsere innere Mitte finden und unterstützt unsere Selbstheilungskräfte. \nIn diesem Yoga-Kurs möchte ich Kindern auf spielerischem Weg ermöglichen\, sich selbst in Ruhe und Entspannung zu erfahren und die Gelegenheit bieten\, sich vollkommen auf den sechsten Sinn\, unsere Intuition\, zu verlassen. \nWas du brauchst: \n› eine Yoga-Matte oder ein Handtuch\n› bequeme Kleidung\n› dich ♥ \nDer Kurs ist für Kinder im Alter von vier bis sieben Jahren und findet ab vier Teilnehmern statt. \nAb sechs Teilnehmer ist der Kurs voll. \nHerzensausgleich im Juli:\n55€ \nTermine: freitags 16.30 bis 17.30 Uhr\n1.7. / 8.7. / 15.7. / 22.7. / 29.7.
URL:https://invidich-institut.de/event/yoga-fuer-kinder-von-4-7-jahren-13/
LOCATION:Rheda-Wiedenbrück\, Fuggerstrasse 25\, Rheda-Wiedenbrück\, NRW\, 33378\, Deutschland
ATTACH;FMTTYPE=image/jpeg:https://invidich-institut.de/wp-content/uploads/2022/02/photo_2022-02-06_17-55-31.jpg
ORGANIZER;CN="Leana":MAILTO:leana.peske@gmx.de
END:VEVENT
BEGIN:VEVENT
DTSTART;TZID=Europe/Berlin:20220722T190000
DTEND;TZID=Europe/Berlin:20220722T203000
DTSTAMP:20260421T202153
CREATED:20211026T152615Z
LAST-MODIFIED:20220112T132824Z
UID:8736-1658516400-1658521800@invidich-institut.de
SUMMARY:Im Einklang ins Wochenende - Entspannung am Freitagabend
DESCRIPTION:Hast du Lust auf eine Freitagabendentspannungszeit ?\nMit besonderem Klang ?\nDer dein System in Einklang bringt ?\nMit einer gesprochenen Meditation ?\nMit entspannenden Düften ?\nEinem guten Tee ?\nKerzen ?\nWohlfühlenergie ? \nDann melde dich an.\n7 Plätze sind frei. \nEine besondere Auftankzeit\, denn die Klanginstrumente mit der Essenz von Bergkristall unterstützen die Balance bzw. die Klärung der Frequenz deines Körpers.\nNach einem Beginn mit diesen Instrumenten folgt eine Meditation mit 432hz Musik durch unsere vor Ort einmalige Klanganlage.\nDie Reise in dein Inneres lädt neue Energien in deine Zeit ein.\nMit natürlichen Ölen von Young Living und harmonischem Kerzenschein\, wärmendem Yogitee ein Freitagabend-Carepaket für dICH\, mit dem du in ein wohliges Wochenende eintauchen kannst. \nIch freue mich auf diese Zeit von Herzen.\nCarola \nLust drauf ?\nDann melde dich bitte per E-Mail an: \ncarola@invidich-institut.de \nBitte komm in Wohlfühlsachen mit Yogamatte\, Kissen\, Decke.
URL:https://invidich-institut.de/event/im-einklang-ins-wochenende-entspannung-am-freitagabend-10/
LOCATION:Rheda-Wiedenbrück\, Fuggerstrasse 25\, Rheda-Wiedenbrück\, NRW\, 33378\, Deutschland
ATTACH;FMTTYPE=image/jpeg:https://invidich-institut.de/wp-content/uploads/2021/09/20210317_103935.jpg
ORGANIZER;CN="Carola":MAILTO:carola@invidich-institut.de
END:VEVENT
BEGIN:VEVENT
DTSTART;TZID=Europe/Berlin:20220723T170000
DTEND;TZID=Europe/Berlin:20220723T193000
DTSTAMP:20260421T202153
CREATED:20220610T093325Z
LAST-MODIFIED:20220707T085813Z
UID:10655-1658595600-1658604600@invidich-institut.de
SUMMARY:DanseVita Tanzreise mit Doris Rehage - Tanzen Ist Die Beste Medizin
DESCRIPTION:“Der Tanz des Lebens“ \nDanseVita ist eine von Matthias Hotz entwickelte Methode zur Persönlichkeitsentwicklung\, Sinnfindung\, körperlichen und seelischen Vitalisierung und des emotionalen Ausdrucks im Tanz (www.dansevita.de). \n“Der Tanz ist Ausdruck unserer Sehnsucht nach Freiheit“     Anselm Grün \nMusikalische Rhythmen bewegen Körper\, Geist und Seele und sorgen für Entspannung und Wohlbefinden. Tanzen ist ein einfacher Weg\, die eigene Lebendigkeit\, die innere Kraftquelle und Lebensfreude zu spüren. Die Selbstheilungskräfte werden in Gang gesetzt und das Immunsystem gestärkt. DanseVita lädt ein\, die Welten des Alltags und der vielen Gedanken loszulassen und sowohl allein als auch in der Begegnung mit anderen in das Erleben von Tanz und Musik einzutauchen. Jede ‘Vivencia‘ ist eine Tanz-Reise zu sich selbst und ermöglicht\, sich anders und vielleicht neu zu entdecken\, denn äußere Bewegung bringt innere Bewegung mit sich und sensibilisiert die Wahrnehmung. \nDie Teilnahme erfordert keinerlei tänzerische oder andere Vorkenntnisse und ist offen für Frauen und Männer jeden Alters\, für Gesunde und weniger Gesunde. Es gibt keine vorgegebenen Schritte und es gibt kein Falsch!! \nAlles was du brauchst ist ein Funken Neugier\, eine Portion Mut\, die Freude am Tanz und an der Begegnung mit Menschen. \nEINLADUNG\n„DanseVita Tanzreise mit Doris Rehage“\n„Tanzen Ist Die Beste Medizin“ \n„Am besten für die Gesundheit ist es\, sich früh im Leben mit dem\nTanzvirus anzustecken und dann ein Leben lang infiziert zu bleiben.\nEs ist nie zu spät\, damit anzufangen.“\nProf.Dr.Gunter Kreutz\, Musikkognitionsforscher \nErlebe dich in der TanzVielfalt aus Vitalisierung\, Kraft und Ruhe\, aus\nDynamik und Stille\, aus Freude und Entspannung\, mal wild und zart\,\nmal sinnlich und lebendig\, in achtsamer Begegnung mit dir selbst\nund anderen. \nTanzort: Institut InvidIch\, Fuggerstr.25\, Rheda\nDatum: 23.7.2022 Veranstalterin: Doris Rehage\nZeit: 17:00-19:30 Uhr Telefon: 017661875899\nKosten: 25 Euro doris.rehage@gmail.com \nEs gibt Platz für 8 Tänzer/innen\nBitte kleide dich bequem und bringe dir ein Getränk\, dicke Socken\nund eine Decke mit. \nWir tanzen barfuß\, in Stoppersocken oder leichten Schläppchen.\nIch freue mich auf dich und auf unsere gemeinsame Tanzreise! \n 
URL:https://invidich-institut.de/event/dansevita-tanzreise-mit-doris-rehage-tanzen-ist-die-beste-medizin/
LOCATION:Rheda-Wiedenbrück\, Fuggerstrasse 25\, Rheda-Wiedenbrück\, NRW\, 33378\, Deutschland
ATTACH;FMTTYPE=image/jpeg:https://invidich-institut.de/wp-content/uploads/2022/03/DanseVita-scaled.jpg
ORGANIZER;CN="Doris":MAILTO:doris.rehage@gmail.com
END:VEVENT
BEGIN:VEVENT
DTSTART;TZID=Europe/Berlin:20220727T190000
DTEND;TZID=Europe/Berlin:20220727T203000
DTSTAMP:20260421T202153
CREATED:20220628T071920Z
LAST-MODIFIED:20220628T082907Z
UID:10808-1658948400-1658953800@invidich-institut.de
SUMMARY:Atemtraining nach Dr. Shioya - mit Carola
DESCRIPTION:Die Atemtechnik des Dr. Shioya ist eine Methode\, bei der wir 5 Elemente miteinander verbinden. \nDas Atmen\, das Affirmieren\, die Visualisierung\, das positive Denken und die Dankbarkeit. \nDas ist eine Atem-Meditations-Technik\, die sehr effektiv auf deinen Gesundheitszustand wirkt.\nDu kannst diese Methode auch nutzen\, wenn du gewisse Ziele in deinem Leben verfolgst und diese schneller und auch wirklich erreichen möchtest. \nZitat aus „Die Kraft strahlender Gesundheit“ von Nobuo Shioya: \n„Die Methode des rechten Denkens und Atmens besteht aus zwei Teilen: dem rechten Denken und dem rechten Atmen\, die zusammen eine untrennbare Einheit bilden.“ Die grundlegende Haltung mit der Atmung in deinen Alltag integriert wirkt immunsystemstärkend. \nIn Verbindung mit dem Duft und der unterstützenden Wirkung von naturreinen ätherischen Ölen und der transformierenden Wirkung der Energie- und Informationssprays von ANDAL’OR eine besondere und einmalige Kombination für dein Immunsystem.\nAbschließend gibt es noch einen Klang mit den Klanginstrumenten aus der Kristallklangmanufaktur Hilders. \nHerzensausgleich für den Kurs – 29\,-€\nMaximal 13 Teilnehmer 🙂 \nAlles Liebe zu dir\, ich freue mich auf dich\, \nCarola
URL:https://invidich-institut.de/event/atemtraining-nach-dr-shioya-mit-carola-2/
LOCATION:Rheda-Wiedenbrück\, Fuggerstrasse 25\, Rheda-Wiedenbrück\, NRW\, 33378\, Deutschland
ATTACH;FMTTYPE=image/jpeg:https://invidich-institut.de/wp-content/uploads/2022/06/Kopie-von-Leichter-Leben-Carola-scaled.jpg
ORGANIZER;CN="Carola":MAILTO:carola@invidich-institut.de
END:VEVENT
BEGIN:VEVENT
DTSTART;TZID=Europe/Berlin:20220728T200000
DTEND;TZID=Europe/Berlin:20220728T213000
DTSTAMP:20260421T202153
CREATED:20220703T182118Z
LAST-MODIFIED:20220703T182118Z
UID:10882-1659038400-1659043800@invidich-institut.de
SUMMARY:Konkret nachhaltig! Carola & Alexander
DESCRIPTION:Live Talk: „Gefährten auf dem Weg der Liebe“\n\n\n\n\nZwei Menschen führen sich immer mehr zu sich selbst und das in tiefer Liebe.\nEhe\, Beziehung\, Partnerschaft in der Form der Gefährtenschaft\, im Erkennen\, dass die Zwei 😊 Eins sind – ohne den Individualismus und die Eigenständigkeit des Anderen in Frage zu stellen. \nMit Emotion\, Klarheit und Authentizität sprechen wir über unser Erleben und wie wir den Weg dieser Transformation gehen. Mit allen Farben.\nIn unseren monatlichen Live-Talks geht es um Miteinander\, Möglichkeiten und Handlungsgrundlagen.\nZu Beginn erzählen wir beide\, sprechen über ein konkretes Thema und öffnen dann den Raum für einen Austausch von Herz zu Herz. \nDie Themen variieren; grundlegende Haltungen\, Erfahrungen\, Forschungsergebnisse\, Impulse und\nAustausch zum aktuellen Zeitgeschehen.\nWir möchten dich einladen\, mitzusprechen\, zu erzählen\, deine Erfahrungen einzubringen und – wir stehen dir auch für ganz direkte Fragen zur Verfügung.\nGern kannst du uns im Vorfeld einen Themenvorschlag einsenden. \n\n\n\n\n\n\n\n\n\n\n\n\n\n\n\n\nLive Talk 3: Konkret und nachhaltig!\n am 28.07.2022 um 20:00 Uhr \nHier findest du den Link zum jeweils aktuellen Zoomcall: \nhttps://us02web.zoom.us/j/88064821248 \nWas braucht es noch?\nNichts\, einfach dabei sein. \nWeitere Termine erfährst du zeitnah hier\, in unserem ANDAL’OR Telegram Kanal oder auch über unseren Newsletter. \nWir freuen uns auf dich und dein Dabeisein \nHerzlichst\nCarola & Alexander \nPS: Wir freuen uns natürlich auch über eine Herzenszuwendung für unser Wirken. \nhttps://paypal.me/Herzwirksam
URL:https://invidich-institut.de/event/konkret-nachhaltig-carola-alexander/
LOCATION:online
ATTACH;FMTTYPE=image/jpeg:https://invidich-institut.de/wp-content/uploads/2022/07/Kopie-von-Kopie-von-MamaSein-nicht-allein-online-scaled.jpg
ORGANIZER;CN="Carola und Alexander":MAILTO:info@andalor.de
END:VEVENT
BEGIN:VEVENT
DTSTART;TZID=Europe/Berlin:20220729T163000
DTEND;TZID=Europe/Berlin:20220729T163000
DTSTAMP:20260421T202153
CREATED:20220517T100911Z
LAST-MODIFIED:20220517T100911Z
UID:10331-1659112200-1659112200@invidich-institut.de
SUMMARY:Yoga für Kinder von 4-7 Jahren
DESCRIPTION:Yoga für Kinder \nYoga bietet die Gelegenheit\, sich voll und ganz auf seine Intuition zu verlassen. Es fördert die Kreativität und hat eine positive Auswirkung auf unsere Konzentration. \nDurch das Praktizieren von Yoga werden uns Wege zu unserem körperlichen\, geistigen und seelischen Wohlbefinden gezeigt. \nEs lässt uns unsere innere Mitte finden und unterstützt unsere Selbstheilungskräfte. \nIn diesem Yoga-Kurs möchte ich Kindern auf spielerischem Weg ermöglichen\, sich selbst in Ruhe und Entspannung zu erfahren und die Gelegenheit bieten\, sich vollkommen auf den sechsten Sinn\, unsere Intuition\, zu verlassen. \nWas du brauchst: \n› eine Yoga-Matte oder ein Handtuch\n› bequeme Kleidung\n› dich ♥ \nDer Kurs ist für Kinder im Alter von vier bis sieben Jahren und findet ab vier Teilnehmern statt. \nAb sechs Teilnehmer ist der Kurs voll. \nHerzensausgleich im Juli:\n55€ \nTermine: freitags 16.30 bis 17.30 Uhr\n1.7. / 8.7. / 15.7. / 22.7. / 29.7.
URL:https://invidich-institut.de/event/yoga-fuer-kinder-von-4-7-jahren-14/
LOCATION:Rheda-Wiedenbrück\, Fuggerstrasse 25\, Rheda-Wiedenbrück\, NRW\, 33378\, Deutschland
ATTACH;FMTTYPE=image/jpeg:https://invidich-institut.de/wp-content/uploads/2022/02/photo_2022-02-06_17-55-31.jpg
ORGANIZER;CN="Leana":MAILTO:leana.peske@gmx.de
END:VEVENT
BEGIN:VEVENT
DTSTART;TZID=Europe/Berlin:20220729T180000
DTEND;TZID=Europe/Berlin:20220729T210000
DTSTAMP:20260421T202153
CREATED:20210615T102551Z
LAST-MODIFIED:20220607T132541Z
UID:7249-1659117600-1659128400@invidich-institut.de
SUMMARY:FrauenHeilKreis InnerCircleHealing 11
DESCRIPTION:Wir möchten dich auf eine Reise einladen\, eine Reise zu dir selbst. In die Urkraft deiner Weiblichkeit. 13 Monate lang treffen wir uns einmal im Monat\, um zu sprechen\, zu lachen\, zu weinen\, zu entspannen\, zu heilen. Bist du bereit\, dich selbst wieder tiefer und freier zu fühlen ? Körper\, Herz- und Seelenbewusstsein wieder zu verbinden ? Mit dir selbst in eine tiefe\, liebevolle und wertschätzende Verbindung zu gehen ? Gemeinsam in einem geschützten Raum der Weiblichkeit zu tauchen ? Jeden Monat wird es ein anderes Thema geben und wir werden auf dieser Reise in die Qualitäten der Annahme\, der Hingabe\, der Leichtigkeit\, der Freude\, des Empfangens eintauchen\, in die Qualität der Liebe zu dir selbst. Jeder Abend ist für sich ein abgeschlossener Kreis\, so dass es jederzeit frei für dich ist\, dabei zu sein. Alles ist immer genau passend für deinen Weg. Einzelheiten gern auf Anfrage. Wir freuen uns auf dich am 11. Abend. \nAnmeldung: info@invidich-institut.de
URL:https://invidich-institut.de/event/frauenheilkreis-innercirclehealing-11/
LOCATION:Rheda-Wiedenbrück\, Fuggerstrasse 25\, Rheda-Wiedenbrück\, NRW\, 33378\, Deutschland
ATTACH;FMTTYPE=image/jpeg:https://invidich-institut.de/wp-content/uploads/2021/06/flowesr-4546245_1920.jpg
ORGANIZER;CN="invidICH Institut":MAILTO:info@invidich-institut.de
END:VEVENT
BEGIN:VEVENT
DTSTART;TZID=Europe/Berlin:20220730T100000
DTEND;TZID=Europe/Berlin:20220730T160000
DTSTAMP:20260421T202153
CREATED:20220524T161233Z
LAST-MODIFIED:20220609T153622Z
UID:10347-1659175200-1659196800@invidich-institut.de
SUMMARY:"invidICH-Tag - Zeit für dICH  - Thementag 3 - "KritikFähigkeit" - wie gehe ich mit Arschengelbegegnungen um
DESCRIPTION:AUSGEBUCHT \nLust auf Zeit mit dir ?\nLust auf ein gemeinsames Frühstück in einer familiären Wohlfühlatmosphäre ?\nLust auf echte wertschätzende Begegnung von Herz zu Herz und von Seele zu Seele ? \nDann lass uns diesen Tag gemeinsam verbringen. \nWir starten am großen Familientisch mit einem Frühstück.\nJeder bringt etwas mit\, so dass die Tafel reich gedeckt ist.\nDenn – jeder bringt genau das mit\, was allen gut tut. Nicht nur für den gedeckten Tisch.\n\nIn diesen Momenten des SichSelbstBegegnens ist es möglich\, in der Gemeinsamkeit seine Einzigartigkeit herauszufinden.\nDenn – durch deine Augen bin ICH DU. Wir dienen einander im Erkennen\, im Erinnern.\nIn unserem Raum der freien Energie geht es nach dem Frühstück mit einer Meditation um 11 Uhr oben im Klang-und Heilraum ins Thema „KritikFähigkeit“ hinein.\nUnd dann lass uns gemeinsam schauen\, welche Themen sich zeigen. \nLiebevoll begleitet von erfahrenen Begleitern. \nDu findest \n\nRaum für dich\nMeditationszeit\nKlang für den Körper\nNährendes für Körper\, Geist und Seele\nAustausch von Mensch zu Mensch\nEntspannung\nMöglichkeiten – gesehen\, gehört\, verstanden\, angenommen zu werden\nMöglichkeiten dich zu zeigen\, zu sehen\, zu hören\, zu verstehen und anzunehmen\nImpulse für dein JETZT\nDuft für die Sinne\n\nKomm einfach in Wohlfühlsachen\, für Getränke ist gesorgt.\nWir freuen uns auf dein Ja zu dir\, auf dich. \nHerzensgrüße in Vorfreude\,\nCarola und Hülya \nHerzensausgleich für den Tag: 44\,-€ \nMit Anmeldung:\ninfo@invidich-institut.de \n09.06.2022 – wir sind ausgebucht \n 
URL:https://invidich-institut.de/event/invidich-tag-zeit-fuer-dich-thementag-3-kritik-faehigkeit/
LOCATION:Rheda-Wiedenbrück\, Fuggerstrasse 25\, Rheda-Wiedenbrück\, NRW\, 33378\, Deutschland
ATTACH;FMTTYPE=image/jpeg:https://invidich-institut.de/wp-content/uploads/2022/05/Thementag-Kritikfaehigkeit-scaled.jpg
ORGANIZER;CN="Carola und H%C3%BClya":MAILTO:info@invidich-institut.de
END:VEVENT
END:VCALENDAR