BEGIN:VCALENDAR
VERSION:2.0
PRODID:-//invidICH Institut - ECPv6.15.20//NONSGML v1.0//EN
CALSCALE:GREGORIAN
METHOD:PUBLISH
X-ORIGINAL-URL:https://invidich-institut.de
X-WR-CALDESC:Veranstaltungen für invidICH Institut
REFRESH-INTERVAL;VALUE=DURATION:PT1H
X-Robots-Tag:noindex
X-PUBLISHED-TTL:PT1H
BEGIN:VTIMEZONE
TZID:Europe/Berlin
BEGIN:DAYLIGHT
TZOFFSETFROM:+0100
TZOFFSETTO:+0200
TZNAME:CEST
DTSTART:20210328T010000
END:DAYLIGHT
BEGIN:STANDARD
TZOFFSETFROM:+0200
TZOFFSETTO:+0100
TZNAME:CET
DTSTART:20211031T010000
END:STANDARD
BEGIN:DAYLIGHT
TZOFFSETFROM:+0100
TZOFFSETTO:+0200
TZNAME:CEST
DTSTART:20220327T010000
END:DAYLIGHT
BEGIN:STANDARD
TZOFFSETFROM:+0200
TZOFFSETTO:+0100
TZNAME:CET
DTSTART:20221030T010000
END:STANDARD
BEGIN:DAYLIGHT
TZOFFSETFROM:+0100
TZOFFSETTO:+0200
TZNAME:CEST
DTSTART:20230326T010000
END:DAYLIGHT
BEGIN:STANDARD
TZOFFSETFROM:+0200
TZOFFSETTO:+0100
TZNAME:CET
DTSTART:20231029T010000
END:STANDARD
END:VTIMEZONE
BEGIN:VEVENT
DTSTART;TZID=Europe/Berlin:20220930T200000
DTEND;TZID=Europe/Berlin:20221003T100000
DTSTAMP:20260425T141856
CREATED:20220916T135536Z
LAST-MODIFIED:20220916T150055Z
UID:11380-1664568000-1664791200@invidich-institut.de
SUMMARY:ANDAL'OR Botschaftertreffen auf dem Glücksmomente Helenenhof
DESCRIPTION:Vom 30.09.-3.10.2022 findet bei Birgit auf dem Hof unser erstes Botschaftertreffen der ANDAL’OR Botschafter statt. \nInput zu ANDAL’OR\, Erfahrungsaustausch\, Teamtraining\, Schulungen\, Materialtestungen\, Visionsarbeit\, Raum für neue Erfahrungen u.a. stehen auf dem Programm.\nBegegnung vor Ort von Mensch zu Mensch\, gemeinsames Essen und gemeinsames Sein in liebevoller Präsenz mit der Möglichkeit für eine öffentliche ANDAL’OR Präsentation auf einem wundervollen Gelände. \nWenn du Interesse an ANDAL’OR Produkten oder an dem Botschaftersein hast\, speichere dir den Sonntag\, 2.10.2022\, gern ab und melde dich bitte verbindlich an.\n16-18 Uhr werden wir zusammen für alle Interessierten zur Verfügung stehen.\nDiese Infoveranstaltung ist natürlich kostenfrei und im Anschluss hast du die Möglichkeit\, bei Birgit und Volker auf dem Hof gemütlich zu speisen (bitte auf Vorreservierung).\nIm Gaudium die leckerste Pizza der Welt 🙂 \nankommen-entspannen-wohlfühlen – Glücksmomente Helenenhof (gluecksmomente-helenenhof.de) \nWir freuen uns auf dich\, \nCarola und Alexander \ninfo@invidich-institut.de
URL:https://invidich-institut.de/event/andalor-botschaftertreffen-auf-dem-gluecksmomente-helenenhof/
LOCATION:Glücksmomente Helenhof\, Schafhof 24\, Schillingsfürst\, Bayern\, 91583\, Deutschland
ATTACH;FMTTYPE=image/jpeg:https://invidich-institut.de/wp-content/uploads/2022/09/Botschaftertreffen1-scaled.jpg
ORGANIZER;CN="Carola und Alexander":MAILTO:info@andalor.de
END:VEVENT
BEGIN:VEVENT
DTSTART;TZID=Europe/Berlin:20221011T210000
DTEND;TZID=Europe/Berlin:20221011T220000
DTSTAMP:20260425T141856
CREATED:20221010T102723Z
LAST-MODIFIED:20221010T102723Z
UID:11458-1665522000-1665525600@invidich-institut.de
SUMMARY:Informationsveranstaltung zur DOULA-Ausbildung mit Cora Brandt
DESCRIPTION:Nach 6 Interviews mit Cora Brandt und intensivem Austausch seit 1 Jahr über neue alte ursprüngliche Wege des Gebärens ist es nun soweit\, dass Cora ihr Wissen und ihre Erfahrungen weitertragen wird\, um Frauen auszubilden\, die wiederum Frauen auf dem Weg in ein natürliches Empfangen begleiten.\nCoras Ausbildungsprogramm für Doulas steht.\nMorgen gibt es einen Infocall dazu.\nDie Ausbildung findet online in 3 Modulen statt.\nDas Grundmodul beginnt am 18.10.2022\nEigenverantwortung auch beim Empfangen der Kinder der neuen Zeit.\nWie schön es ist\, wenn sie störungsfrei und natürlich ankommen dürfen 💞 \nIch werde Cora technischen und begleitenden Support geben\, wir sind also nun gemeinsam auf dem Weg.\nWer einen Ruf spürt – morgen 21Uhr findet der Infozoomcall statt.\n🙏😇🙏 \nMehr zu Cora und ihrem Ruf zur Gebär-Revolution: \n \nDoula-Ausbildung in 3 Modulen mit Cora Brandt \nDu findest seelische Begleitung für Schwangere\, Gebärende und werdende Väter wertvoll?\nDurch gut informierte\, weise\, erfahrene Frauen? Dann sei dabei. \nKursbeginn am 18.10.22; online Grundkurs\, 3Monate 1x wöchentlich. Preis auf Anfrage. \nZoom-Meeting beitreten\nhttps://us04web.zoom.us/j/9223533892?pwd=cGVIWnlzRHFUamRaZFY2eloyd0owQT09 \nMeeting-ID: 922 353 3892\nKenncode: 524072 \n#doula\n#gebärrevolution\n#gebären\n#neuesleben\n#einfachlieben
URL:https://invidich-institut.de/event/informationsveranstaltung-zur-doula-ausbildung-mit-cora-brandt/
LOCATION:online
ATTACH;FMTTYPE=image/jpeg:https://invidich-institut.de/wp-content/uploads/2022/10/Informationsveranstaltung-Doula.jpg
END:VEVENT
BEGIN:VEVENT
DTSTART;TZID=Europe/Berlin:20221013T200000
DTEND;TZID=Europe/Berlin:20221013T213000
DTSTAMP:20260425T141856
CREATED:20221010T165850Z
LAST-MODIFIED:20221010T170033Z
UID:11463-1665691200-1665696600@invidich-institut.de
SUMMARY:ANDAL'OR Meditationsabend mit Carola und Alexander - online
DESCRIPTION:Stell dir vor\, jeder Mensch auf Erden ist mit den Urwerten der Qualitäten des göttlichen und menschlichen Miteinanders verbunden. \nMit \n\nder Aufrichtigkeit\ndem Frieden\nder Gleichberechtigung\nder Großzügigkeit\nder Güte\ndem Mut\ndem Fortschritt\nder Empfänglichkeit\ndem Ankommen\nder Ausdauer\nder Dankbarkeit\nder Demut/der Hingabe:\n\nEs gibt einen Ort auf Erden\, an dem die Möglichkeit zur Rückverbindung zu diesen Qualitäten einst materialisiert wurde. \nWenn du dich mit einer dieser Energien nicht mehr verbunden fühlst\, kannst du zur Meditation da hinein gehen. In die 12 Meditationsräume. Stille\, Tiefe und Liebe. Die 12 Räume sind um das Matrimandir\, um die goldene Kugel angelegt. In Indien.\nDas Matrimandir – verkörpert für uns die reine Rückverbindung mit deinem ICH BIN\, deinem höheren Selbst. In Reinheit und purer Liebe. \nNicht jeder Mensch kann in seinem Leben tatsächlich dahin reisen. Wir haben für uns den Auftrag empfangen\, die Menschen zu erinnern. Uns zu erinnern und das auch zu leben. \nIn bedingungsloser Annahme und Liebe. \nStell dir vor\, jeder Mensch geht in seine Eigenverantwortung und erinnert sich an diese Kraft in uns\, jeder Mensch lebt diese Qualitäten aus dem geheilten Herzen. \nEs ist JETZT die Zeit\, dass wir uns verbinden. Dass wir dies leben\, dass WIR uns erinnern. \nWir laden ein am Donnerstagabend\, 13.10. zu einer Meditation via Zoom um 20:00 Uhr\, um diese Reise in die Räume und Urqualitäten dieser 12 Felder  zu erleben. \nUnser Auftrag ist es\, zu erinnern und zu begleiten. Auf diesem Weg in die Rückverbindung. \nhttps://us02web.zoom.us/j/83686566173 \nIn tiefer Liebe\,\nCarola und Alexander 💞\nFühl dich willkommen. Der Meditationsabend ist kostenfrei.\nDu brauchst einen ruhigen Raum für dich und vielleicht auch Kopfhörer\, wenn du magst. \nÜber wertschätzende Herzensgaben freuen wir uns natürlich 😉\nhttp://paypal.me/Herzwirksam
URL:https://invidich-institut.de/event/andalor-meditationsabend-mit-carola-und-alexander-online/
LOCATION:online
ATTACH;FMTTYPE=image/jpeg:https://invidich-institut.de/wp-content/uploads/2022/10/Meditationsabend-scaled.jpg
END:VEVENT
BEGIN:VEVENT
DTSTART;TZID=Europe/Berlin:20221016T110000
DTEND;TZID=Europe/Berlin:20221016T130000
DTSTAMP:20260425T141856
CREATED:20221006T101043Z
LAST-MODIFIED:20221006T101043Z
UID:11432-1665918000-1665925200@invidich-institut.de
SUMMARY:Mutter-Heil-Reise - mit Lena
DESCRIPTION:Mutter-Heil-Reise \nist eine Reise zu dir selbst als Frau\, als Mutter\, als Mensch.\nEs geht um die Beziehung zu uns selbst\, zu unseren Kindern egal wie alt sie sind. \nDabei  geht es weniger um Erziehung\, sondern viel mehr um das Muttersein. \nWir treffen uns einmal im Monat\, es gibt jedes Mal ein spezielles Thema\, welches uns noch näher zu unserem wahren Sein führt\, unsere ungewollten Muster erkennen lässt und die wirklichen Wünsche offenbart. \nBei unseren Treffen schenken wir uns Raum und Zeit\, in denen wir einfach sein können; verzweifelt\, traurig\, wütend\, aber auch fröhlich\, frei und leicht\, mit all unseren Ängsten und Sorgen\, Wünschen und Träumen.\nWir sehen uns selbst und werden gesehen. Wir schenken uns Kraft und Halt. \nAls Helfer bekommst du eine Meditation und Erinnerungskarte\, um die neuen Erkenntnisse und Ausrichtungen in den Alltag zu integrieren. \nHerzensausgleich 27 Euro \nMagst du dabei sein\, dann melde dich bis zum 14.10. bei mir an. \nIch freue mich auf dich\,\nLena \n16.10. 22\n11-13 Uhr \nFranz-Claas-Straße 1\n33428 Harsewinkel
URL:https://invidich-institut.de/event/mutter-heil-reise-mit-lena-5/
LOCATION:Harsewinkel\, Franz-Claas-Straße 1\, Harsewinkel\, NRW\, 33428\, Deutschland
ATTACH;FMTTYPE=image/jpeg:https://invidich-institut.de/wp-content/uploads/2022/04/Mutter-HeilReise-1-scaled.jpg
ORGANIZER;CN="Vertrauensweg":MAILTO:Lena@vertrauensweg.de
END:VEVENT
BEGIN:VEVENT
DTSTART;TZID=Europe/Berlin:20221021T190000
DTEND;TZID=Europe/Berlin:20221021T210000
DTSTAMP:20260425T141856
CREATED:20220921T180849Z
LAST-MODIFIED:20220921T180849Z
UID:11424-1666378800-1666386000@invidich-institut.de
SUMMARY:Frauenkraftkreis - Frauen stärken Frauen
DESCRIPTION:Der Frauenkraftkreis findet am 21.10. und am 18.11.2022  von 19-21 Uhr in der Art Villa\, Hauptstraße 131 in Burscheid statt und die Teilnahmegebühr pro Person beträgt 13\,-€. \nIm Frauenkraftkreis können wir uns austauschen\, ermutigen und inspirieren sowie gemeinsam Kraft für unseren Alltag sammeln. \nAnmeldung unter 0176/23608759 oder kunz414@gmail.com \nLeitung Yvonne Kunz\, Sozialpädagogin FH
URL:https://invidich-institut.de/event/frauenkraftkreis-frauen-staerken-frauen/
LOCATION:Art Villa\, Hauptstraße 131\, Burscheid
ATTACH;FMTTYPE=image/jpeg:https://invidich-institut.de/wp-content/uploads/2022/09/Kopie-von-online-1.jpg
ORGANIZER;CN="Yvonne":MAILTO:kunz414@gmail.com
END:VEVENT
BEGIN:VEVENT
DTSTART;TZID=Europe/Berlin:20221023T110000
DTEND;TZID=Europe/Berlin:20221023T130000
DTSTAMP:20260425T141856
CREATED:20221006T102016Z
LAST-MODIFIED:20221006T102016Z
UID:11438-1666522800-1666530000@invidich-institut.de
SUMMARY:Herbstliches Aquarellmalen - mit Lena - auch für Anfänger
DESCRIPTION:23.10.22\n11-13 Uhr \nMalst du gerne? Hast aber kaum Zeit dazu und wenn\, dann fehlt das nötige Material? \nAn diesem Abend hast du die Möglichkeit\, dich selbst zu beschenken\, deine Kreativität freizulassen\, mit feinen Farben zu experimentieren\, tolle Bilder zu gestalten und nebenbei das gesellige Beisammensein zu genießen. \nMagst du dabei sein\, dann melde dich bis zum 20.10. bei mir an. \nIch freue mich auf dich. \nWenn du Aquarellfarben hast\, darfst du diese gerne mitnehmen\, ansonsten steht dir das Material zur Verfügung. \nAusgleich 33€ \nLena
URL:https://invidich-institut.de/event/herbstliches-aquarellmalen-mit-lena-auch-fuer-anfaenger/
LOCATION:Harsewinkel\, Franz-Claas-Straße 1\, Harsewinkel\, NRW\, 33428\, Deutschland
ATTACH;FMTTYPE=image/jpeg:https://invidich-institut.de/wp-content/uploads/2022/04/Kopie-von-Unbenanntes-Design-scaled.jpg
ORGANIZER;CN="Vertrauensweg":MAILTO:Lena@vertrauensweg.de
END:VEVENT
BEGIN:VEVENT
DTSTART;TZID=Europe/Berlin:20221026T200000
DTEND;TZID=Europe/Berlin:20221026T213000
DTSTAMP:20260425T141856
CREATED:20221016T185754Z
LAST-MODIFIED:20221026T120538Z
UID:11476-1666814400-1666819800@invidich-institut.de
SUMMARY:ANDAL'OR Meditationsabend mit Carola und Alexander - online
DESCRIPTION:Stell dir vor\, jeder Mensch auf Erden ist mit den Urwerten der Qualitäten des göttlichen und menschlichen Miteinanders verbunden und fühlt diese in sich. \nMit \n\nder Aufrichtigkeit\ndem Frieden\nder Gleichberechtigung\nder Großzügigkeit\nder Güte\ndem Mut\ndem Fortschritt\nder Empfänglichkeit\ndem Ankommen\nder Ausdauer\nder Dankbarkeit\nder Demut/der Hingabe:\n\nEs gibt einen Ort auf Erden\, an dem die Möglichkeit zur Rückverbindung zu diesen Qualitäten einst materialisiert wurde. \nWenn du dich mit einer dieser Energien nicht mehr verbunden fühlst\, kannst du zur Meditation dahineingehen. In die 12 Meditationsräume. Stille\, Tiefe und Liebe. Die 12 Räume sind um das Matrimandir\, um die goldene Kugel angelegt. In Indien.\nDas Matrimandir – verkörpert für uns die reine Rückverbindung mit deinem ICH BIN\, deinem höheren Selbst. In Reinheit und purer Liebe. \nNicht jeder Mensch kann in seinem Leben tatsächlich dahin reisen. Wir haben für uns den Auftrag empfangen\, die Menschen zu erinnern. An diese Urqualitäten.\nUns selbst zu erinnern und das auch zu leben. \nIn bedingungsloser Annahme und Liebe. \nStell dir vor\, jeder Mensch geht in seine Eigenverantwortung und erinnert sich an diese Kraft in uns\, jeder Mensch lebt diese Qualitäten aus dem geheilten Herzen. \nEs ist JETZT die Zeit\, dass wir uns verbinden. Dass wir dies leben\, dass WIR uns erinnern. \nWir laden ein am Mittwochabend\, 26.10. zu einer Meditation via Zoom um 20:00 Uhr\, um diese Reise in die Räume und Urqualitäten dieser 12 Felder  zu erleben. \nUnser Auftrag ist es\, zu erinnern und zu begleiten. Auf diesem Weg in die Rückverbindung. \nhttps://us02web.zoom.us/j/83605294358 \nIn tiefer Liebe\,\nCarola und Alexander 💞\nFühl dich willkommen. Der Meditationsabend ist kostenfrei.\nDu brauchst einen ruhigen Raum für dich und vielleicht auch Kopfhörer\, wenn du magst. \nÜber wertschätzende Herzensgaben freuen wir uns natürlich 😉\nhttp://paypal.me/Herzwirksam
URL:https://invidich-institut.de/event/andalor-meditationsabend-mit-carola-und-alexander-online-2/
LOCATION:online
ATTACH;FMTTYPE=image/png:https://invidich-institut.de/wp-content/uploads/2022/10/Meditationsabend.png
END:VEVENT
END:VCALENDAR